BEGIN:VCALENDAR
PRODID:NingEventWidget-v1
VERSION:2.0
METHOD:PUBLISH
BEGIN:VTIMEZONE
TZID:Europe/Athens
X-LIC-LOCATION:Europe/Athens
BEGIN:DAYLIGHT
TZOFFSETFROM:+0200
TZOFFSETTO:+0300
TZNAME:EEST
DTSTART:19700329T030000
RRULE:FREQ=YEARLY;BYMONTH=3;BYDAY=-1SU
END:DAYLIGHT
BEGIN:STANDARD
TZOFFSETFROM:+0300
TZOFFSETTO:+0200
TZNAME:EET
DTSTART:19701025T040000
RRULE:FREQ=YEARLY;BYMONTH=10;BYDAY=-1SU
END:STANDARD
END:VTIMEZONE
BEGIN:VEVENT
UID:1982923:Event:234784
DTSTAMP:20260422T133648Z
SUMMARY:SIMOS KOKAVESIS & BLUES Co. & Markella Panagiotou
DESCRIPTION:Πέμπτη 28/1\nROCKING THURSDAYS\nSIMOS KOKAVESIS & BL
 UES Co.\nΣίμος Κοκαβέσης: κιθάρα-φωνή, Μάν
 ς Δελώτης: μπάσο, Κυριάκος Δαρίβας: ντ
 αμς.\nSpecial guest: Μαρκέλλα Παναγιώτου\nH blue
 s \"εταιρεία\" του Σίμου Κοκαβέση, υποδέ
 εται επί σκηνής την εκρηκτική Markella Panay
 otou ! Kορυφαία ροκ ερμηνεύτρια, μοναδική
  μουσική περσόνα…\nAποτελεί μια από τι
  πρώτες φωνές στο χώρο, με σημαντικές 
 υνεργασίες βλέπε #Socrates (1999-2009), και στο 
 προσωπικό σχήμα του Αντώνη Τουρκογιώρ
 γη..!!\nΠολυτάλαντη, δυναμική και «γνήσι
 α», αποδίδει με μαεστρία blues-rock, classic & har
 d rock, με το ιδιαίτερο προσωπικό της ύφο
 ..\nΕίσοδος ελεύθερη. Ελάχιστη κατανάλ
 ση 5 ευρώ.\nhttps://www.youtube.com/watch?v=PDtb2trIIA0\n\nFor 
 more information visit https://blues.gr/events/simos-kokavesis-blues-c
 o-markella-panagiotou
DTSTART;TZID=Europe/Athens:20160128T223000
DTEND;TZID=Europe/Athens:20160129T020000
CATEGORIES:"blues.co"
LOCATION:LAZY CLUB
WEBSITE:http://www.lazy.gr
URL:http://www.lazy.gr
CONTACT:210 6895535
ORGANIZER;CN="Spiros Dramitinos":https://blues.gr/profile/SpirosDramit
 inos
ATTACH;FMTTYPE="image/jpeg":http://storage.ning.com/topology/rest/1.0/
 file/get/2253044841?profile=original
ATTENDEE;ROLE=REQ-PARTICIPANT;PARTSTAT=ACCEPTED;RSVP=TRUE;CN="Spiros D
 ramitinos":https://blues.gr/profile/SpirosDramitinos
END:VEVENT
END:VCALENDAR
