BEGIN:VCALENDAR
PRODID:NingEventWidget-v1
VERSION:2.0
METHOD:PUBLISH
BEGIN:VTIMEZONE
TZID:Europe/Athens
X-LIC-LOCATION:Europe/Athens
BEGIN:DAYLIGHT
TZOFFSETFROM:+0200
TZOFFSETTO:+0300
TZNAME:EEST
DTSTART:19700329T030000
RRULE:FREQ=YEARLY;BYMONTH=3;BYDAY=-1SU
END:DAYLIGHT
BEGIN:STANDARD
TZOFFSETFROM:+0300
TZOFFSETTO:+0200
TZNAME:EET
DTSTART:19701025T040000
RRULE:FREQ=YEARLY;BYMONTH=10;BYDAY=-1SU
END:STANDARD
END:VTIMEZONE
BEGIN:VEVENT
UID:1982923:Event:152720
DTSTAMP:20260424T234518Z
SUMMARY:Skopje Blues & Soul Festival 2012
DESCRIPTION:\n\nFor more information visit https://blues.gr/events/sko
 pje-blues-soul-festival-2012-2
DTSTART;TZID=Europe/Athens:20120903T180000
DTEND;TZID=Europe/Athens:20120903T190000
CATEGORIES:festival
LOCATION:Skopje
WEBSITE:
URL:
CONTACT:
ORGANIZER;CN="Vasja Ivanovski":https://blues.gr/profile/VasjaIvanovski
ATTACH;FMTTYPE="image/jpeg":http://storage.ning.com/topology/rest/1.0/
 file/get/2252991058?profile=original
ATTENDEE;ROLE=REQ-PARTICIPANT;PARTSTAT=ACCEPTED;RSVP=TRUE;CN="Vasja Iv
 anovski":https://blues.gr/profile/VasjaIvanovski
END:VEVENT
END:VCALENDAR
