BEGIN:VCALENDAR
PRODID:NingEventWidget-v1
VERSION:2.0
METHOD:PUBLISH
BEGIN:VTIMEZONE
TZID:Europe/Athens
X-LIC-LOCATION:Europe/Athens
BEGIN:DAYLIGHT
TZOFFSETFROM:+0200
TZOFFSETTO:+0300
TZNAME:EEST
DTSTART:19700329T030000
RRULE:FREQ=YEARLY;BYMONTH=3;BYDAY=-1SU
END:DAYLIGHT
BEGIN:STANDARD
TZOFFSETFROM:+0300
TZOFFSETTO:+0200
TZNAME:EET
DTSTART:19701025T040000
RRULE:FREQ=YEARLY;BYMONTH=10;BYDAY=-1SU
END:STANDARD
END:VTIMEZONE
BEGIN:VEVENT
UID:1982923:Event:149812
DTSTAMP:20260421T210917Z
SUMMARY:Small Blues Trap - Live @ “Art Café Αστραδενή”(
 ιβαδειά)
DESCRIPTION:Οι Small Blues Trap θα εμφανιστούν ζωντ
 ανά,\nστα πλαίσια των εκδηλώσεων για τη
 ν\nΕυρωπαϊκή Γιορτή της Μουσικής,\nτην 
 αρασκευή 22 Ιουνίου\nστο Art Café Αστραδεν
 ή στη Λιβαδειά.\n \nΈρκυνας 5, Λιβαδειά\n
 \nΏρα έναρξης  21:30\n \nΕΙΣΟΔΟΣ ΕΛΕΥΘΕΡΗ!
 \n \n \nΠαύλος Καραπιπέρης :\nΦωνή , φυσαρ
 μόνικα\nΠαναγιώτης Δάρας :\nΚιθάρα\nΛευ
 έρης Μπέσιος :\nΜπάσο\nΣτάθης Ευαγγελί
 υ :\nΤύμπανα\n \nwww.smallbluestrap.gr\n \n\nFor more infor
 mation visit https://blues.gr/events/small-blues-trap-live-art-caf
DTSTART;TZID=Europe/Athens:20120622T000000
DTEND;TZID=Europe/Athens:20120622T235900
CATEGORIES:"blues live"
LOCATION:Art Café Αστραδενή
WEBSITE:
URL:
CONTACT:
ORGANIZER:Art Café Αστραδενή
ATTACH;FMTTYPE="image/jpeg":http://storage.ning.com/topology/rest/1.0/
 file/get/2252987969?profile=original
ATTENDEE;ROLE=REQ-PARTICIPANT;PARTSTAT=ACCEPTED;RSVP=TRUE;CN="Small Bl
 ues Trap":https://blues.gr/profile/SmallBluesTrap
END:VEVENT
END:VCALENDAR
