BEGIN:VCALENDAR
PRODID:NingEventWidget-v1
VERSION:2.0
METHOD:PUBLISH
BEGIN:VTIMEZONE
TZID:Europe/Athens
X-LIC-LOCATION:Europe/Athens
BEGIN:DAYLIGHT
TZOFFSETFROM:+0200
TZOFFSETTO:+0300
TZNAME:EEST
DTSTART:19700329T030000
RRULE:FREQ=YEARLY;BYMONTH=3;BYDAY=-1SU
END:DAYLIGHT
BEGIN:STANDARD
TZOFFSETFROM:+0300
TZOFFSETTO:+0200
TZNAME:EET
DTSTART:19701025T040000
RRULE:FREQ=YEARLY;BYMONTH=10;BYDAY=-1SU
END:STANDARD
END:VTIMEZONE
BEGIN:VEVENT
UID:1982923:Event:40771
DTSTAMP:20260421T224852Z
SUMMARY:SMALL BLUES TRAP - LIVE AT \"BLUES\"
DESCRIPTION:\n\nwww.smallbluestrap.gr\n\nΠαύλος Καραπιπέ
 ρης :\nΦωνή , φυσαρμόνικα , steel guitar\nΠαναγ
 ιώτης Δάρας :\nΚιθάρα\nΛευτέρης Μπέσιος
  :\nΜπάσο\nΣτάθης Ευαγγελίου :\nΤύμπανα\n\
 nFor more information visit https://blues.gr/events/small-blues-trap-l
 ive-at-2
DTSTART;TZID=Europe/Athens:20100226T000000
DTEND;TZID=Europe/Athens:20100226T235900
CATEGORIES:"live!"
LOCATION:BLUES
WEBSITE:
URL:
CONTACT:210 6437667
ORGANIZER:BLUES CLUB
ATTACH;FMTTYPE="image/jpeg":http://storage.ning.com/topology/rest/1.0/
 file/get/2252938714?profile=original
ATTENDEE;ROLE=REQ-PARTICIPANT;PARTSTAT=ACCEPTED;RSVP=TRUE;CN="Petros M
 atsakos":https://blues.gr/profile/PetrosMatsakos
ATTENDEE;ROLE=REQ-PARTICIPANT;PARTSTAT=ACCEPTED;RSVP=TRUE;CN="Tsiamtsi
 kas Nikolaos":https://blues.gr/profile/TsiamtsikasNikolaos
ATTENDEE;ROLE=REQ-PARTICIPANT;PARTSTAT=ACCEPTED;RSVP=TRUE;CN=BlackCatB
 one:https://blues.gr/profile/BlackCatBone
ATTENDEE;ROLE=REQ-PARTICIPANT;PARTSTAT=ACCEPTED;RSVP=TRUE;CN="Small Bl
 ues Trap":https://blues.gr/profile/SmallBluesTrap
ATTENDEE;ROLE=REQ-PARTICIPANT;PARTSTAT=TENTATIVE;RSVP=TRUE;CN=panos_m:
 https://blues.gr/profile/panos_m
ATTENDEE;ROLE=REQ-PARTICIPANT;PARTSTAT=TENTATIVE;RSVP=TRUE;CN=Zoi:http
 s://blues.gr/profile/Zoi_G
ATTENDEE;ROLE=REQ-PARTICIPANT;PARTSTAT=TENTATIVE;RSVP=TRUE;CN="George 
 Pap":https://blues.gr/profile/GeorgePap
ATTENDEE;ROLE=REQ-PARTICIPANT;PARTSTAT=TENTATIVE;RSVP=TRUE;CN=Spyros:h
 ttps://blues.gr/profile/Spyros
END:VEVENT
END:VCALENDAR
