BEGIN:VCALENDAR
PRODID:NingEventWidget-v1
VERSION:2.0
METHOD:PUBLISH
BEGIN:VTIMEZONE
TZID:Europe/Athens
X-LIC-LOCATION:Europe/Athens
BEGIN:DAYLIGHT
TZOFFSETFROM:+0200
TZOFFSETTO:+0300
TZNAME:EEST
DTSTART:19700329T030000
RRULE:FREQ=YEARLY;BYMONTH=3;BYDAY=-1SU
END:DAYLIGHT
BEGIN:STANDARD
TZOFFSETFROM:+0300
TZOFFSETTO:+0200
TZNAME:EET
DTSTART:19701025T040000
RRULE:FREQ=YEARLY;BYMONTH=10;BYDAY=-1SU
END:STANDARD
END:VTIMEZONE
BEGIN:VEVENT
UID:1982923:Event:45081
DTSTAMP:20260422T123438Z
SUMMARY:Small Blues Trap - Live at \"BLUES\"
DESCRIPTION:\n\nwww.smallbluestrap.gr\n\nFor more information visit ht
 tps://blues.gr/events/small-blues-trap-live-at-3
DTSTART;TZID=Europe/Athens:20100326T000000
DTEND;TZID=Europe/Athens:20100326T235900
CATEGORIES:"live!"
LOCATION:BLUES CLUB
WEBSITE:http://www.myspace.com/nikosblues
URL:http://www.myspace.com/nikosblues
CONTACT:210 6437667
ORGANIZER:BLUES CLUB
ATTACH;FMTTYPE="image/jpeg":http://storage.ning.com/topology/rest/1.0/
 file/get/2252939794?profile=original
ATTENDEE;ROLE=REQ-PARTICIPANT;PARTSTAT=ACCEPTED;RSVP=TRUE;CN="Tsiamtsi
 kas Nikolaos":https://blues.gr/profile/TsiamtsikasNikolaos
ATTENDEE;ROLE=REQ-PARTICIPANT;PARTSTAT=ACCEPTED;RSVP=TRUE;CN="Spiros L
 oissios":https://blues.gr/profile/SpirosLoissios
ATTENDEE;ROLE=REQ-PARTICIPANT;PARTSTAT=ACCEPTED;RSVP=TRUE;CN=eddie:htt
 ps://blues.gr/profile/eddie238
ATTENDEE;ROLE=REQ-PARTICIPANT;PARTSTAT=ACCEPTED;RSVP=TRUE;CN="Small Bl
 ues Trap":https://blues.gr/profile/SmallBluesTrap
END:VEVENT
END:VCALENDAR
