BEGIN:VCALENDAR
PRODID:NingEventWidget-v1
VERSION:2.0
METHOD:PUBLISH
BEGIN:VTIMEZONE
TZID:Europe/Athens
X-LIC-LOCATION:Europe/Athens
BEGIN:DAYLIGHT
TZOFFSETFROM:+0200
TZOFFSETTO:+0300
TZNAME:EEST
DTSTART:19700329T030000
RRULE:FREQ=YEARLY;BYMONTH=3;BYDAY=-1SU
END:DAYLIGHT
BEGIN:STANDARD
TZOFFSETFROM:+0300
TZOFFSETTO:+0200
TZNAME:EET
DTSTART:19701025T040000
RRULE:FREQ=YEARLY;BYMONTH=10;BYDAY=-1SU
END:STANDARD
END:VTIMEZONE
BEGIN:VEVENT
UID:1982923:Event:16699
DTSTAMP:20260423T060441Z
SUMMARY:Small Blues Trap - Live at \"IN VIVO\"
DESCRIPTION:\n\nFor more information visit https://blues.gr/events/sma
 ll-blues-trap-live-at-in
DTSTART;TZID=Europe/Athens:20090221T110000
DTEND;TZID=Europe/Athens:20090221T140000
CATEGORIES:blues, live
LOCATION:IN VIVO
WEBSITE:
URL:
CONTACT:
ORGANIZER;CN="Small Blues Trap":https://blues.gr/profile/SmallBluesTra
 p
ATTACH;FMTTYPE="image/jpeg":http://storage.ning.com/topology/rest/1.0/
 file/get/2252936044?profile=original
ATTENDEE;ROLE=REQ-PARTICIPANT;PARTSTAT=ACCEPTED;RSVP=TRUE;CN="Giannis 
 Pachidis":https://blues.gr/profile/ioannis
ATTENDEE;ROLE=REQ-PARTICIPANT;PARTSTAT=ACCEPTED;RSVP=TRUE;CN=Panos:htt
 ps://blues.gr/profile/Panos
ATTENDEE;ROLE=REQ-PARTICIPANT;PARTSTAT=ACCEPTED;RSVP=TRUE;CN="Small Bl
 ues Trap":https://blues.gr/profile/SmallBluesTrap
ATTENDEE;ROLE=REQ-PARTICIPANT;PARTSTAT=TENTATIVE;RSVP=TRUE;CN="Jerry I
 nman":https://blues.gr/profile/JerryInman
ATTENDEE;ROLE=REQ-PARTICIPANT;PARTSTAT=TENTATIVE;RSVP=TRUE;CN=mottman:
 https://blues.gr/profile/mottman
ATTENDEE;ROLE=REQ-PARTICIPANT;PARTSTAT=TENTATIVE;RSVP=TRUE;CN=Zoi:http
 s://blues.gr/profile/Zoi_G
ATTENDEE;ROLE=REQ-PARTICIPANT;PARTSTAT=TENTATIVE;RSVP=TRUE;CN="Drummat
 ic Style":https://blues.gr/profile/style
ATTENDEE;ROLE=REQ-PARTICIPANT;PARTSTAT=TENTATIVE;RSVP=TRUE;CN=glykeria
 :https://blues.gr/profile/glykeria
ATTENDEE;ROLE=REQ-PARTICIPANT;PARTSTAT=TENTATIVE;RSVP=TRUE;CN="Steve C
 arter":https://blues.gr/profile/SteveCarter
END:VEVENT
END:VCALENDAR
