BEGIN:VCALENDAR
PRODID:NingEventWidget-v1
VERSION:2.0
METHOD:PUBLISH
BEGIN:VTIMEZONE
TZID:Europe/Athens
X-LIC-LOCATION:Europe/Athens
BEGIN:DAYLIGHT
TZOFFSETFROM:+0200
TZOFFSETTO:+0300
TZNAME:EEST
DTSTART:19700329T030000
RRULE:FREQ=YEARLY;BYMONTH=3;BYDAY=-1SU
END:DAYLIGHT
BEGIN:STANDARD
TZOFFSETFROM:+0300
TZOFFSETTO:+0200
TZNAME:EET
DTSTART:19701025T040000
RRULE:FREQ=YEARLY;BYMONTH=10;BYDAY=-1SU
END:STANDARD
END:VTIMEZONE
BEGIN:VEVENT
UID:1982923:Event:272110
DTSTAMP:20260425T020752Z
SUMMARY:SMALL BLUES TRAP – LIVE@CYBER’S
DESCRIPTION:\n\nFor more information visit https://blues.gr/events/sma
 ll-blues-trap-live-cyber-s-2
DTSTART;TZID=Europe/Athens:20190315T000000
DTEND;TZID=Europe/Athens:20190315T235900
CATEGORIES:live
LOCATION:CYBER’S
WEBSITE:
URL:
CONTACT:698 5745 660
ORGANIZER:CYBER’S
ATTACH;FMTTYPE="image/jpeg":https://storage.ning.com/topology/rest/1.0
 /file/get/1198784155?profile=original
ATTENDEE;ROLE=REQ-PARTICIPANT;PARTSTAT=ACCEPTED;RSVP=TRUE;CN="Small Bl
 ues Trap":https://blues.gr/profile/SmallBluesTrap
END:VEVENT
END:VCALENDAR
