BEGIN:VCALENDAR
PRODID:NingEventWidget-v1
VERSION:2.0
METHOD:PUBLISH
BEGIN:VTIMEZONE
TZID:Europe/Athens
X-LIC-LOCATION:Europe/Athens
BEGIN:DAYLIGHT
TZOFFSETFROM:+0200
TZOFFSETTO:+0300
TZNAME:EEST
DTSTART:19700329T030000
RRULE:FREQ=YEARLY;BYMONTH=3;BYDAY=-1SU
END:DAYLIGHT
BEGIN:STANDARD
TZOFFSETFROM:+0300
TZOFFSETTO:+0200
TZNAME:EET
DTSTART:19701025T040000
RRULE:FREQ=YEARLY;BYMONTH=10;BYDAY=-1SU
END:STANDARD
END:VTIMEZONE
BEGIN:VEVENT
UID:1982923:Event:301541
DTSTAMP:20260420T111003Z
SUMMARY:Small Blues Trap + No Fake Bone – Live @ Six Dogs
DESCRIPTION:Small Blues Trap + No Fake Bone – Live @ Six Dogs\nΚυ
 ριακή 9 Ιουνίου στις 21:00  Είσοδος 5 ευρώ\
 nsix d.o.g.s Αβραμιώτου 6-8 Μοναστηράκι Αθήν
  T: +30 210 3210510 W: http://sixdogs.gr  Μετά από 15 χρόν
 ια παρουσίας στις μουσικές σκηνές της 
 Ελλάδας, οι Small Blues Trap παρουσιάζουν στα 
 live τους ένα πρόγραμμα το οποίο περιλαμ
 βάνει δικά τους τραγούδια από τα albums τ
 υς «Our Trap» (2005), «Crossroad Ritual» (2006), «Red Snakes &
  Cave Bats» (2010), «The Longest Road I Know» (2013) και «Time 
 Tricks»(2015), καθώς και τις ιδιαίτερες διασ
 κευές τους σε τραγούδια των Muddy Waters, Alber
 t King, Howlin’ Wolf, Memphis Minnie, Buddy Guy,John Mayall, Eddie T
 aylor, Chuck Willis, J.J.Cale, Jimi Hendrix, The Doors, Nick Gravenite
 s, Tom Waits κ.α., τα οποία στοιχειώνουν πάντ
 α το συναυλιακό σταυροδρόμι τους. Αναμ
 ιγνύοντας το πάθος τους για τα blues - που
  είναι και το πρωτογενές υλικό των συν
 έσεών τους - με στοιχεία από άλλα μουσ
 κά ιδιώματα, οι Small Blues Trap έχουν καταφέ
 ει να δημιουργήσουν έναν εξαιρετικά 
 ροσωπικό ήχο που είναι αναγνωρίσιμος 
 και μοναδικός.  Παύλος Καραπιπέρης: φω
 ή, φυσαρμόνικα\nΠαναγιώτης Δάρας: κιθά
 ρα\nΛευτέρης Μπέσιος:μπάσο\nΝίκος Κωνσ
 αντίνου: drums\n www.smallbluestrap.gr\n  Οι No Fake Bone δ
 ημιουργήθηκαν την άνοιξη του 2014 στην Α
 θήνα από τον Σταμάτη Δεληγιάννη (κιθάρ
 α) και τη Γιούλα Σταθοπούλου (φωνή, σαξ
 φωνο). Ξεκινώντας να παίζουν blues και soul
  covers, προχώρησαν στη δημιουργία πρωτότ
 υπου υλικού σε hard funk ‘n’ roll φόρμα. Μετά
  από τρία χρόνια δημιουργίας και αναζή
 τησης, τον Νοέμβριο του 2017 κυκλοφόρησα
 ν τον πρώτο ανεξάρτητο δίσκο τους “Again
 st All Odds”. Η μπάντα ολοκληρώθηκε με τον 
 ώτη Φιλιππάτο(τύμπανα) και τον Δημήτρ
  Κυριαζή (μπάσο) και ξεκίνησε τα live για
  την κυκλοφορία του δίσκου, λαμβάνοντα
 ς πολλές θετικές κριτικές. Οι συνθέσει
 ς τους πηγάζουν από την πρώτη τους αγά
 η, τα blues, συνυφαίνοντας μαζί ξεκάθαρε
  hard rock και funk επιρροές. Οι στίχοι τους,
  εσωτερικοί και περιγραφικοί, αντλούν 
 από την πόλη που τους περικλείει, τους 
 σκοτεινούς έρωτες και τις ξεδιάντροπε
 ς συμφορές της. Τον Σεπτέμβριο του 2018 κ
 υκλοφόρησαν το κόμικ επιστημονικής φα
 ντασίας “The Silver Monkey”, μια αυτοέκδοση σ
 ε σχέδιο του Σταμάτη και κείμενα της Γ
 ούλας. Η κοφτερή αφήγηση μιας εξωγήιν
 ς εισβολής, ένα τέρας που θυσιάζεται σ
 τον βωμό του έρωτα και της επιβίωσης. Τ
 ο κόμικ θα συμπεριληφθεί στο επόμενο μ
 ουσικό project της μπάντας, το θεματικό EP 
 The Silver Monkey”, που βρίσκεται στα σκαριά 
 και αναμένεται τους επόμενους μήνες.   
 https://www.facebook.com/events/871585323191101/\n \n\nFor more infor
 mation visit https://blues.gr/events/small-blues-trap-no-fake-bone-liv
 e-six-dogs
DTSTART;TZID=Europe/Athens:20190609T000000
DTEND;TZID=Europe/Athens:20190609T235900
CATEGORIES:live
LOCATION:six d.o.g.s
WEBSITE:
URL:
CONTACT:210 3210510
ORGANIZER:six d.o.g.s
ATTACH;FMTTYPE="image/jpeg":https://storage.ning.com/topology/rest/1.0
 /file/get/2802346994?profile=original
ATTENDEE;ROLE=REQ-PARTICIPANT;PARTSTAT=ACCEPTED;RSVP=TRUE;CN="Small Bl
 ues Trap":https://blues.gr/profile/SmallBluesTrap
END:VEVENT
END:VCALENDAR
