BEGIN:VCALENDAR
PRODID:NingEventWidget-v1
VERSION:2.0
METHOD:PUBLISH
BEGIN:VTIMEZONE
TZID:Europe/Athens
X-LIC-LOCATION:Europe/Athens
BEGIN:DAYLIGHT
TZOFFSETFROM:+0200
TZOFFSETTO:+0300
TZNAME:EEST
DTSTART:19700329T030000
RRULE:FREQ=YEARLY;BYMONTH=3;BYDAY=-1SU
END:DAYLIGHT
BEGIN:STANDARD
TZOFFSETFROM:+0300
TZOFFSETTO:+0200
TZNAME:EET
DTSTART:19701025T040000
RRULE:FREQ=YEARLY;BYMONTH=10;BYDAY=-1SU
END:STANDARD
END:VTIMEZONE
BEGIN:VEVENT
UID:1982923:Event:383344
DTSTAMP:20260420T090605Z
SUMMARY:(Canceled) Snarky Puppy
DESCRIPTION:Μετά από μία δεκαετία γεμάτη πε
 ιοδείες και ηχογραφήσεις, η πολυσυλλε
 κτική μπάντα από τη Νέα Υόρκη, έχει εξε
 λιχθεί σε μία από τις σημαντικότερες κ
 αι σπουδαιότερες μουσικές φιγούρες το
 υ σύγχρονου jazz κόσμου. Όπως αποδεικνύο
 υν περίτρανα και τα τρία Grammy που έχουν 
 στην κατοχή τους (Best R&B Performance in 2014, Best Con
 temporary Instrumental Album in 2016 και 2017), δεν πρόκει
 ται για μια απλή τζαζ μπάντα αλλά για μ
 ια πολυσχιδή μουσική προσωπικότητα, π
 υ αντιπροσωπεύει τη αμερικάνικη μουσ
 κή κουλτούρα με στοιχεία από όλο τον κ
 όσμο.  Δημιουργήθηκε το 2003 από τον μπασ
 ίστα και βασικό συνθέτη της, Michael League, κ
 αι αυτή τη στιγμή αποτελείται από 19 μέ
 η – εξαιρετικούς μουσικούς, που ο καθ
 νας από αυτούς έχει συνεργαστεί με κα
 λιτέχνες όπως οι Erykah Badu, Snoop Dogg, Kendrick Lama
 r και D’Angelo, αλλά και παραγωγούς όπως ο
  Kirk Franklin, David Crosby και Salif Keïta. Με τον πρό
 φατο δίσκο τους «Immigrance», κατόρθωσαν ν
  κυκλοφορήσουν έναν από τους πιο επιτ
 χημένους δίσκους για το 2019 και να κατα
 κτήσουν κορυφαίες θέσεις στα jazz charts! Η 
 βασική ιδέα του δίσκου είναι πως «όλα 
 ίναι ρευστά, όλα κινούνται συνεχώς κα
  όλοι είμαστε σε μία διαρκή κατάσταση 
 μετανάστευσης», ένα θέμα αρκετά προσω
 ικό για τον League, του οποίου οι ρίζες εί
 ναι ελληνικές και οι γονείς του μετανά
 στευσαν στην Αμερική.\r\n\n\nFor more information vi
 sit https://blues.gr/events/snarky-puppy
DTSTART;TZID=Europe/Athens:20200407T000000
DTEND;TZID=Europe/Athens:20200408T235900
CATEGORIES:jazz, funk
LOCATION:GazArte
WEBSITE:
URL:
CONTACT:+30 210 3460347, +30 210 3452277
ORGANIZER:Gazarte
ATTACH;FMTTYPE="image/jpeg":https://storage.ning.com/topology/rest/1.0
 /file/get/3840216206?profile=original
ATTENDEE;ROLE=REQ-PARTICIPANT;PARTSTAT=ACCEPTED;RSVP=TRUE;CN="Music Ne
 twork by Michael Limnios":https://blues.gr/profile/MichalisLimnios
END:VEVENT
END:VCALENDAR
