BEGIN:VCALENDAR
PRODID:NingEventWidget-v1
VERSION:2.0
METHOD:PUBLISH
BEGIN:VTIMEZONE
TZID:Europe/Athens
X-LIC-LOCATION:Europe/Athens
BEGIN:DAYLIGHT
TZOFFSETFROM:+0200
TZOFFSETTO:+0300
TZNAME:EEST
DTSTART:19700329T030000
RRULE:FREQ=YEARLY;BYMONTH=3;BYDAY=-1SU
END:DAYLIGHT
BEGIN:STANDARD
TZOFFSETFROM:+0300
TZOFFSETTO:+0200
TZNAME:EET
DTSTART:19701025T040000
RRULE:FREQ=YEARLY;BYMONTH=10;BYDAY=-1SU
END:STANDARD
END:VTIMEZONE
BEGIN:VEVENT
UID:1982923:Event:18894
DTSTAMP:20260423T122303Z
SUMMARY:Soul Fingers live at After Dark
DESCRIPTION:A soul and r'n'b experience. The band has stayed away from
  the bandstand for quite a few months. And now's the time. Renewed, ea
 ger to play as never before and with two new vocalists (again), we pro
 mised ourselves to set the place on fire.\n\nFor more information visi
 t https://blues.gr/events/soul-fingers-live-at-after
DTSTART;TZID=Europe/Athens:20090307T233000
DTEND;TZID=Europe/Athens:20090308T023000
CATEGORIES:live
LOCATION:After Dark
WEBSITE:
URL:
CONTACT:210-36 06 460
ORGANIZER;CN="George \"Whiskey\" Stefanakis":https://blues.gr/profile/
 GeorgeStefanakis
ATTACH;FMTTYPE="image/jpeg":http://storage.ning.com/topology/rest/1.0/
 file/get/2252936513?profile=original
ATTENDEE;ROLE=REQ-PARTICIPANT;PARTSTAT=ACCEPTED;RSVP=TRUE;CN="Kosmas N
 ikolaidis":https://blues.gr/profile/KosmasNikolaidis
ATTENDEE;ROLE=REQ-PARTICIPANT;PARTSTAT=ACCEPTED;RSVP=TRUE;CN="George \
 "Whiskey\" Stefanakis":https://blues.gr/profile/GeorgeStefanakis
ATTENDEE;ROLE=REQ-PARTICIPANT;PARTSTAT=TENTATIVE;RSVP=TRUE;CN=christro
 s:https://blues.gr/profile/christros
END:VEVENT
END:VCALENDAR
