BEGIN:VCALENDAR
PRODID:NingEventWidget-v1
VERSION:2.0
METHOD:PUBLISH
BEGIN:VTIMEZONE
TZID:Europe/Athens
X-LIC-LOCATION:Europe/Athens
BEGIN:DAYLIGHT
TZOFFSETFROM:+0200
TZOFFSETTO:+0300
TZNAME:EEST
DTSTART:19700329T030000
RRULE:FREQ=YEARLY;BYMONTH=3;BYDAY=-1SU
END:DAYLIGHT
BEGIN:STANDARD
TZOFFSETFROM:+0300
TZOFFSETTO:+0200
TZNAME:EET
DTSTART:19701025T040000
RRULE:FREQ=YEARLY;BYMONTH=10;BYDAY=-1SU
END:STANDARD
END:VTIMEZONE
BEGIN:VEVENT
UID:1982923:Event:216712
DTSTAMP:20260424T125458Z
SUMMARY:Spreading the Blues
DESCRIPTION:\nΣεμινάριο Blues κιθάρας από τον Η
 λία Ζάικο\n \nΟ Ηλίας Ζάικος θα μας δείξ
 ει πώς μπορούμε να φτιάξουμε τον προσω
 πικό μας ήχο, χρησιμοποιώντας απλές μο
 υσικές φράσεις.\n \nΘα αναλύσει γνωστά s
 tandard licks, τα οποία παιγμένα από διαφορε
 ικούς κιθαρίστες αποκτούν ξεχωριστή 
 κφραστική αξία.\n \nΕμβαθύνοντας στο vib
 rato και στο bending θα ανταλλάξει ‘φράσεις
 ’ με την ομάδα, δίνοντας νέα διάσταση 
 το μουσικό μας λεξιλόγιο.\n \nΤο σεμινά
 ριο απευθύνεται σε κιθαρίστες όλων τω
  επιπέδων. Επιθυμητή η προσέλευση στο
  χώρο με κιθάρες, practice amps καθώς και με 
 υσκευές ηχογράφησης.\n\n\n\n\n\nFor more informatio
 n visit https://blues.gr/events/spreading-the-blues
DTSTART;TZID=Europe/Athens:20141214T200000
DTEND;TZID=Europe/Athens:20141214T213000
CATEGORIES:σεμινάριο, ηλεκτρικής, κιθάρας
LOCATION:Ω2, Θάλητος 31, Θεσσαλονίκη
WEBSITE:
URL:
CONTACT:
ORGANIZER;CN=anestis:https://blues.gr/profile/anestis
ATTACH;FMTTYPE="image/jpeg":http://storage.ning.com/topology/rest/1.0/
 file/get/2253032337?profile=original
ATTENDEE;ROLE=REQ-PARTICIPANT;PARTSTAT=ACCEPTED;RSVP=TRUE;CN=anestis:h
 ttps://blues.gr/profile/anestis
ATTENDEE;ROLE=REQ-PARTICIPANT;PARTSTAT=TENTATIVE;RSVP=TRUE;CN=TUBESCRE
 AMERS:https://blues.gr/profile/TUBESCREAMERS
END:VEVENT
END:VCALENDAR
