BEGIN:VCALENDAR
PRODID:NingEventWidget-v1
VERSION:2.0
METHOD:PUBLISH
BEGIN:VTIMEZONE
TZID:Europe/Athens
X-LIC-LOCATION:Europe/Athens
BEGIN:DAYLIGHT
TZOFFSETFROM:+0200
TZOFFSETTO:+0300
TZNAME:EEST
DTSTART:19700329T030000
RRULE:FREQ=YEARLY;BYMONTH=3;BYDAY=-1SU
END:DAYLIGHT
BEGIN:STANDARD
TZOFFSETFROM:+0300
TZOFFSETTO:+0200
TZNAME:EET
DTSTART:19701025T040000
RRULE:FREQ=YEARLY;BYMONTH=10;BYDAY=-1SU
END:STANDARD
END:VTIMEZONE
BEGIN:VEVENT
UID:1982923:Event:21807
DTSTAMP:20260425T063230Z
SUMMARY:Σπυριδούλα στη Λέσχη Φίλων Καβασά
 κι
DESCRIPTION:Στο συνήθη χώρο όπου πραγματοπο
 ιούνται οι εκδηλώσεις της Λέσχης Φίλω
  Καβασάκι,\nΠρομηθέως 75-77 και Αχαρνών, 
 πέναντι από τον ηλεκτρικό σταθμό Κάτω
  Πατησίων - αν δεν κάνω λάθος οι αδελφο
  Σπυρόπουλοι θα παίξουν ακουστικά. Θα 
 το διερευνήσω και να έχουμε νεώτερα.\n\n
 For more information visit https://blues.gr/events/spyridohula-ste-lhe
 sche
DTSTART;TZID=Europe/Athens:20090328T220000
DTEND;TZID=Europe/Athens:20090329T010000
CATEGORIES:live
LOCATION:Λέσχη Φίλων Καβασάκι
WEBSITE:
URL:
CONTACT:
ORGANIZER;CN="George \"Whiskey\" Stefanakis":https://blues.gr/profile/
 GeorgeStefanakis
ATTACH;FMTTYPE="image/jpeg":
ATTENDEE;ROLE=REQ-PARTICIPANT;PARTSTAT=ACCEPTED;RSVP=TRUE;CN=demosthen
 is:https://blues.gr/profile/demosthenis
ATTENDEE;ROLE=REQ-PARTICIPANT;PARTSTAT=ACCEPTED;RSVP=TRUE;CN="George \
 "Whiskey\" Stefanakis":https://blues.gr/profile/GeorgeStefanakis
END:VEVENT
END:VCALENDAR
