BEGIN:VCALENDAR
PRODID:NingEventWidget-v1
VERSION:2.0
METHOD:PUBLISH
BEGIN:VTIMEZONE
TZID:Europe/Athens
X-LIC-LOCATION:Europe/Athens
BEGIN:DAYLIGHT
TZOFFSETFROM:+0200
TZOFFSETTO:+0300
TZNAME:EEST
DTSTART:19700329T030000
RRULE:FREQ=YEARLY;BYMONTH=3;BYDAY=-1SU
END:DAYLIGHT
BEGIN:STANDARD
TZOFFSETFROM:+0300
TZOFFSETTO:+0200
TZNAME:EET
DTSTART:19701025T040000
RRULE:FREQ=YEARLY;BYMONTH=10;BYDAY=-1SU
END:STANDARD
END:VTIMEZONE
BEGIN:VEVENT
UID:1982923:Event:104319
DTSTAMP:20260420T145929Z
SUMMARY:Sugahspank & Swing Shoes
DESCRIPTION:Οι Swing Shoes είναι μια ανήσυχη, πολ
 συλλεκτική, κεφάτη μπάντα που ξεκίνησ
 ε το 2006 παίζοντας στον δρόμο! Στο αρχικ
 ό ντουέτo των Swing Shoes, Άδωνι Γουλιέλμο κ
 ι Γιώργο Κούτρα, προστέθηκαν σύντομαι
  και άλλοι μουσικοί, ο Πάνος Τομαράς στ
 ο μπάσο και ο Ανδρέας Σιγαλός στο βιολ
  δημιουγώντας ένα κλασικό gypsy swing σχήμ
 . Με επιρροές από Django Reinhardt, Romane, Duke Ellingt
 on και Μανώλη Χιώτη αλλά και το σύνολο τ
 ης swing και παραδοσιακής jazz σκηνής, οι Swi
 ng Shoes έχουν ως μουσική κατεύθυνση το σο
 υίνγκ, το μπλουζ, τη μπόσα νόβα, τη gypsy ja
 zz αλλά και την ελληνική παράδοση και ό
 α αυτά σε μία πολύ ενδιαφέρουσα και συ
 χνά απρόβλεπτη μίξη, πάντα με αυθορμητ
 ισμό και φαντασία!\n\nSugahspank: φωνήΕιρήνη 
 Δημοπούλου: φωνήΆδωνις Γουλιέλμος: κι
 άραΓιώργος Κούτρας: κιθάραΠάνος Τομα
 άς: μπάσοΑνδρέας Σιγαλός: βιολίΝίκος 
 ωγράφος: ντράμερDJ Oxocube: κρουστά\n\nFor more 
 information visit https://blues.gr/events/sugahspank-swing-shoes
DTSTART;TZID=Europe/Athens:20110516T220000
DTEND;TZID=Europe/Athens:20110517T220000
CATEGORIES:live
LOCATION:Half Note Jazz Club
WEBSITE:http://www.halfnote.gr
URL:http://www.halfnote.gr
CONTACT:210 9213360
ORGANIZER:Half Note
ATTACH;FMTTYPE="image/jpeg":http://storage.ning.com/topology/rest/1.0/
 file/get/2252950430?profile=original
ATTENDEE;ROLE=REQ-PARTICIPANT;PARTSTAT=ACCEPTED;RSVP=TRUE;CN="Music Ne
 twork by Michael Limnios":https://blues.gr/profile/MichalisLimnios
END:VEVENT
END:VCALENDAR
