BEGIN:VCALENDAR
PRODID:NingEventWidget-v1
VERSION:2.0
METHOD:PUBLISH
BEGIN:VTIMEZONE
TZID:Europe/Athens
X-LIC-LOCATION:Europe/Athens
BEGIN:DAYLIGHT
TZOFFSETFROM:+0200
TZOFFSETTO:+0300
TZNAME:EEST
DTSTART:19700329T030000
RRULE:FREQ=YEARLY;BYMONTH=3;BYDAY=-1SU
END:DAYLIGHT
BEGIN:STANDARD
TZOFFSETFROM:+0300
TZOFFSETTO:+0200
TZNAME:EET
DTSTART:19701025T040000
RRULE:FREQ=YEARLY;BYMONTH=10;BYDAY=-1SU
END:STANDARD
END:VTIMEZONE
BEGIN:VEVENT
UID:1982923:Event:107980
DTSTAMP:20260422T004517Z
SUMMARY:Summer 'Splish Splash' Swing dance party
DESCRIPTION:Οι Athens Swing Cats και το Floral σας προσ
 αλούν στο αποχαιρετιστήριο πάρτι του 
 καλοκαιριού. Προμηθευτείτε νεροπίστο
 α, βάλτε μαγιό και ελάτε για ένα τρελό 
 πάρτι, με πολύ swing, jive & jump μουσική και ξ
 φρενο χορό.\nΓυρίζουμε λοιπόν το χρόνο
  πίσω σε μία βραδιά γεμάτη από 1940's Big Band
  Swing μουσική αλλά και 50's Rhythm ‘n Blues, Rock ‘
 n Roll, Jump & Jive και φυσικά τρελό χορό και 
 εροπλανικές φιγούρες από τους ‘Athens Swi
 ng Cats’!\nOλονύχτιο πάρτυ με ελεύθερη είσ
 οδο!\n\n\nFor more information visit https://blues.gr/events/summer
 -splish-splash-swing
DTSTART;TZID=Europe/Athens:20110720T220000
DTEND;TZID=Europe/Athens:20110721T030000
CATEGORIES:party
LOCATION:Floral
WEBSITE:http://www.athensswingcats.com
URL:http://www.athensswingcats.com
CONTACT:210 3800070
ORGANIZER:Floral
ATTACH;FMTTYPE="image/jpeg":http://storage.ning.com/topology/rest/1.0/
 file/get/2252953441?profile=original
ATTENDEE;ROLE=REQ-PARTICIPANT;PARTSTAT=ACCEPTED;RSVP=TRUE;CN="Music Ne
 twork by Michael Limnios":https://blues.gr/profile/MichalisLimnios
END:VEVENT
END:VCALENDAR
