BEGIN:VCALENDAR
PRODID:NingEventWidget-v1
VERSION:2.0
METHOD:PUBLISH
BEGIN:VTIMEZONE
TZID:Europe/Athens
X-LIC-LOCATION:Europe/Athens
BEGIN:DAYLIGHT
TZOFFSETFROM:+0200
TZOFFSETTO:+0300
TZNAME:EEST
DTSTART:19700329T030000
RRULE:FREQ=YEARLY;BYMONTH=3;BYDAY=-1SU
END:DAYLIGHT
BEGIN:STANDARD
TZOFFSETFROM:+0300
TZOFFSETTO:+0200
TZNAME:EET
DTSTART:19701025T040000
RRULE:FREQ=YEARLY;BYMONTH=10;BYDAY=-1SU
END:STANDARD
END:VTIMEZONE
BEGIN:VEVENT
UID:1982923:Event:254096
DTSTAMP:20260422T053309Z
SUMMARY:SUPER JAM!  ΛΟΥΚΑΣ ΣΙΔΕΡΑΣ, ΣΙΜΟΣ ΚΟΚΑΒ
 ΕΣΗΣ, ΓΙΑΝΝΗΣ ΔΡΟΛΑΠΑΣ, ΝΙΚΟΣ ΓΙΑΝΝΑΤΟ
 Σ
DESCRIPTION:Πέμπτη 23/2\nSUPER JAM!\nΛΟΥΚΑΣ ΣΙΔΕΡΑΣ
 , ΣΙΜΟΣ ΚΟΚΑΒΕΣΗΣ, ΓΙΑΝΝΗΣ ΔΡΟΛΑΠΑΣ, ΝΙ
 ΚΟΣ ΓΙΑΝΝΑΤΟΣ\nΜια μουσική συνέρευση υ
 ψηλών προδιαγραφών, όπου η blues «εταιρε
 α» του Σίμου Κοκαβέση, υποδέχεται επί 
 σκηνής , τον θρυλικό Λουκά Σιδερά (Aphrodit
 e's Child),\nτον πρωτοπόρο Γιάννη Δρόλαπα (Μ
 ουσικές Ταξιαρχίες - Vavoura Band) και τον ακ
 ούραστο Νίκο Γιαννάτο (Πυξ-Λαξ), σε μια 
 καταιγιστική βραδιά..Clasic Rock & Hard Rock ύμν
 ι με ψυχεδελικές προεκτάσεις και free imp
 rovised μουσικές από\nζωντανούς θρύλους τ
 ς ελληνικής σκηνής..\nΕίσοδος ελεύθερη
 . Ελάχιστη κατανάλωση 5 ευρώ.\nhttps://www.youtu
 be.com/watch?v=dLtl0lbLJ4A\n \n\nFor more information visit https://b
 lues.gr/events/super-jam
DTSTART;TZID=Europe/Athens:20170223T230000
DTEND;TZID=Europe/Athens:20170224T023000
CATEGORIES:super, "jam!"
LOCATION:LAZY CLUB
WEBSITE:http://www.lazy.gr
URL:http://www.lazy.gr
CONTACT:210 6895535
ORGANIZER;CN="Spiros Dramitinos":https://blues.gr/profile/SpirosDramit
 inos
ATTACH;FMTTYPE="image/jpeg":http://storage.ning.com/topology/rest/1.0/
 file/get/2253053245?profile=original
ATTENDEE;ROLE=REQ-PARTICIPANT;PARTSTAT=ACCEPTED;RSVP=TRUE;CN="Spiros D
 ramitinos":https://blues.gr/profile/SpirosDramitinos
END:VEVENT
END:VCALENDAR
