BEGIN:VCALENDAR
PRODID:NingEventWidget-v1
VERSION:2.0
METHOD:PUBLISH
BEGIN:VTIMEZONE
TZID:Europe/Athens
X-LIC-LOCATION:Europe/Athens
BEGIN:DAYLIGHT
TZOFFSETFROM:+0200
TZOFFSETTO:+0300
TZNAME:EEST
DTSTART:19700329T030000
RRULE:FREQ=YEARLY;BYMONTH=3;BYDAY=-1SU
END:DAYLIGHT
BEGIN:STANDARD
TZOFFSETFROM:+0300
TZOFFSETTO:+0200
TZNAME:EET
DTSTART:19701025T040000
RRULE:FREQ=YEARLY;BYMONTH=10;BYDAY=-1SU
END:STANDARD
END:VTIMEZONE
BEGIN:VEVENT
UID:1982923:Event:130732
DTSTAMP:20260421T165646Z
SUMMARY:Swing Xmas
DESCRIPTION:Christmas in Athens\nTο καλοκαίρι του 2008 η
  Ζοζεφίν και ο Μπέν, σκέφτηκαν το όνομα
  \"Athens Swing Cats\" εμπνευσμένοι από την πολύ
  cool γάτα τους, για μία ομάδα αποτελούμε
 νη από ετερόκλητα άτομα με κοινό στόχο
  να διδάξουν το Swing χορό στην Αθήνα. Οι \
 "Athens Swing Cats\" ενδυναμωμένοι μετά από πολ
 λές επιτυχίες, δυσκολίες, και με άλλη π
 ολύ πιο αρμονική και δυναμική σύνθεση 
 συνεχίζουν να διαδίδουν με πάθος και τ
 ρέλα τη Swing μουσική και το χορό στους ε
 θουσιώδης μαθητές τους!\n\n\n\nFor more informati
 on visit https://blues.gr/events/swing-xmas
DTSTART;TZID=Europe/Athens:20111224T000000
DTEND;TZID=Europe/Athens:20111224T235900
CATEGORIES:swing, dance
LOCATION:Kotzia Square
WEBSITE:http://www.AthensSwingCats.com
URL:http://www.AthensSwingCats.com
CONTACT:
ORGANIZER:Athens Swing Cats
ATTACH;FMTTYPE="image/jpeg":http://storage.ning.com/topology/rest/1.0/
 file/get/2252961398?profile=original
ATTENDEE;ROLE=REQ-PARTICIPANT;PARTSTAT=ACCEPTED;RSVP=TRUE;CN="Music Ne
 twork by Michael Limnios":https://blues.gr/profile/MichalisLimnios
END:VEVENT
END:VCALENDAR
