BEGIN:VCALENDAR
PRODID:NingEventWidget-v1
VERSION:2.0
METHOD:PUBLISH
BEGIN:VTIMEZONE
TZID:Europe/Athens
X-LIC-LOCATION:Europe/Athens
BEGIN:DAYLIGHT
TZOFFSETFROM:+0200
TZOFFSETTO:+0300
TZNAME:EEST
DTSTART:19700329T030000
RRULE:FREQ=YEARLY;BYMONTH=3;BYDAY=-1SU
END:DAYLIGHT
BEGIN:STANDARD
TZOFFSETFROM:+0300
TZOFFSETTO:+0200
TZNAME:EET
DTSTART:19701025T040000
RRULE:FREQ=YEARLY;BYMONTH=10;BYDAY=-1SU
END:STANDARD
END:VTIMEZONE
BEGIN:VEVENT
UID:1982923:Event:194128
DTSTAMP:20260425T001442Z
SUMMARY:Texas Brothers Live at Sound City!
DESCRIPTION:Blues, Boogie and Rock 'n' roll...\n\nFor more information
  visit https://blues.gr/events/texas-brothers-live-at-sound-city
DTSTART;TZID=Europe/Athens:20140110T220000
DTEND;TZID=Europe/Athens:20140111T020000
CATEGORIES:concert
LOCATION:Sound City Live Stage
WEBSITE:https://www.facebook.com/events/201223410082879
URL:https://www.facebook.com/events/201223410082879
CONTACT:2106140453
ORGANIZER;CN="Texas Brothers":https://blues.gr/profile/TexasBrothers
ATTACH;FMTTYPE="image/jpeg":
ATTENDEE;ROLE=REQ-PARTICIPANT;PARTSTAT=ACCEPTED;RSVP=TRUE;CN="Texas Br
 others":https://blues.gr/profile/TexasBrothers
ATTENDEE;ROLE=REQ-PARTICIPANT;PARTSTAT=TENTATIVE;RSVP=TRUE;CN="Giannis
  Pachidis":https://blues.gr/profile/ioannis
END:VEVENT
END:VCALENDAR
