BEGIN:VCALENDAR
PRODID:NingEventWidget-v1
VERSION:2.0
METHOD:PUBLISH
BEGIN:VTIMEZONE
TZID:Europe/Athens
X-LIC-LOCATION:Europe/Athens
BEGIN:DAYLIGHT
TZOFFSETFROM:+0200
TZOFFSETTO:+0300
TZNAME:EEST
DTSTART:19700329T030000
RRULE:FREQ=YEARLY;BYMONTH=3;BYDAY=-1SU
END:DAYLIGHT
BEGIN:STANDARD
TZOFFSETFROM:+0300
TZOFFSETTO:+0200
TZNAME:EET
DTSTART:19701025T040000
RRULE:FREQ=YEARLY;BYMONTH=10;BYDAY=-1SU
END:STANDARD
END:VTIMEZONE
BEGIN:VEVENT
UID:1982923:Event:57528
DTSTAMP:20260421T154043Z
SUMMARY:Texas Brothers Live At Wild Thing
DESCRIPTION:Texas Brothers are gonna rock the house tonight!\n\nFor mo
 re information visit https://blues.gr/events/texas-brothers-live-at-wi
 ld
DTSTART;TZID=Europe/Athens:20100528T230000
DTEND;TZID=Europe/Athens:20100529T150000
CATEGORIES:blues, concert
LOCATION:peiraus
WEBSITE:
URL:
CONTACT:
ORGANIZER;CN="Texas Brothers":https://blues.gr/profile/TexasBrothers
ATTACH;FMTTYPE="image/jpeg":
ATTENDEE;ROLE=REQ-PARTICIPANT;PARTSTAT=ACCEPTED;RSVP=TRUE;CN="Texas Br
 others":https://blues.gr/profile/TexasBrothers
ATTENDEE;ROLE=REQ-PARTICIPANT;PARTSTAT=TENTATIVE;RSVP=TRUE;CN="George 
 \"Whiskey\" Stefanakis":https://blues.gr/profile/GeorgeStefanakis
END:VEVENT
END:VCALENDAR
