BEGIN:VCALENDAR
PRODID:NingEventWidget-v1
VERSION:2.0
METHOD:PUBLISH
BEGIN:VTIMEZONE
TZID:Europe/Athens
X-LIC-LOCATION:Europe/Athens
BEGIN:DAYLIGHT
TZOFFSETFROM:+0200
TZOFFSETTO:+0300
TZNAME:EEST
DTSTART:19700329T030000
RRULE:FREQ=YEARLY;BYMONTH=3;BYDAY=-1SU
END:DAYLIGHT
BEGIN:STANDARD
TZOFFSETFROM:+0300
TZOFFSETTO:+0200
TZNAME:EET
DTSTART:19701025T040000
RRULE:FREQ=YEARLY;BYMONTH=10;BYDAY=-1SU
END:STANDARD
END:VTIMEZONE
BEGIN:VEVENT
UID:1982923:Event:84593
DTSTAMP:20260421T210917Z
SUMMARY:TEXAS BROTHERS LIVE: CHRISTMAS
DESCRIPTION:concert\n\nFor more information visit https://blues.gr/eve
 nts/texas-brothers-live-christmas
DTSTART;TZID=Europe/Athens:20101224T230000
DTEND;TZID=Europe/Athens:20101225T150000
CATEGORIES:concert
LOCATION:ROCKWOOD
WEBSITE:http://www.rockwood.gr/
URL:http://www.rockwood.gr/
CONTACT:
ORGANIZER;CN="Marios Spiliotopoulos":https://blues.gr/profile/MariosSp
 iliotopoulos
ATTACH;FMTTYPE="image/jpeg":http://storage.ning.com/topology/rest/1.0/
 file/get/2252949710?profile=original
ATTENDEE;ROLE=REQ-PARTICIPANT;PARTSTAT=ACCEPTED;RSVP=TRUE;CN="dimitrio
 s doulgeridis":https://blues.gr/profile/dimitriosdoulgeridis
ATTENDEE;ROLE=REQ-PARTICIPANT;PARTSTAT=ACCEPTED;RSVP=TRUE;CN="Giannis 
 Pachidis":https://blues.gr/profile/ioannis
ATTENDEE;ROLE=REQ-PARTICIPANT;PARTSTAT=ACCEPTED;RSVP=TRUE;CN="Marios S
 piliotopoulos":https://blues.gr/profile/MariosSpiliotopoulos
END:VEVENT
END:VCALENDAR
