BEGIN:VCALENDAR
PRODID:NingEventWidget-v1
VERSION:2.0
METHOD:PUBLISH
BEGIN:VTIMEZONE
TZID:Europe/Athens
X-LIC-LOCATION:Europe/Athens
BEGIN:DAYLIGHT
TZOFFSETFROM:+0200
TZOFFSETTO:+0300
TZNAME:EEST
DTSTART:19700329T030000
RRULE:FREQ=YEARLY;BYMONTH=3;BYDAY=-1SU
END:DAYLIGHT
BEGIN:STANDARD
TZOFFSETFROM:+0300
TZOFFSETTO:+0200
TZNAME:EET
DTSTART:19701025T040000
RRULE:FREQ=YEARLY;BYMONTH=10;BYDAY=-1SU
END:STANDARD
END:VTIMEZONE
BEGIN:VEVENT
UID:1982923:Event:67534
DTSTAMP:20260424T163206Z
SUMMARY:The Blue Rose Blues Band, live at Babi's Jazz Cafe
DESCRIPTION:Blues Live at Babi's jazz cafe\n\nFor more information vis
 it https://blues.gr/events/the-blue-rose-blues-band-live
DTSTART;TZID=Europe/Athens:20101001T000000
DTEND;TZID=Europe/Athens:20101001T235900
CATEGORIES:blues, live, at, "babi's", jazz, cafe, in, aridea
LOCATION:Aridea, cypress ave. 14
WEBSITE:
URL:
CONTACT:
ORGANIZER:babis Just Blue/babi's jazz cafe
ATTACH;FMTTYPE="image/jpeg":
ATTENDEE;ROLE=REQ-PARTICIPANT;PARTSTAT=ACCEPTED;RSVP=TRUE;CN="babis Si
 mply  Blue":https://blues.gr/profile/MPAMPES
END:VEVENT
END:VCALENDAR
