BEGIN:VCALENDAR
PRODID:NingEventWidget-v1
VERSION:2.0
METHOD:PUBLISH
BEGIN:VTIMEZONE
TZID:Europe/Athens
X-LIC-LOCATION:Europe/Athens
BEGIN:DAYLIGHT
TZOFFSETFROM:+0200
TZOFFSETTO:+0300
TZNAME:EEST
DTSTART:19700329T030000
RRULE:FREQ=YEARLY;BYMONTH=3;BYDAY=-1SU
END:DAYLIGHT
BEGIN:STANDARD
TZOFFSETFROM:+0300
TZOFFSETTO:+0200
TZNAME:EET
DTSTART:19701025T040000
RRULE:FREQ=YEARLY;BYMONTH=10;BYDAY=-1SU
END:STANDARD
END:VTIMEZONE
BEGIN:VEVENT
UID:1982923:Event:87357
DTSTAMP:20260420T124543Z
SUMMARY:The Blue Side Band Live@8 Δυτικά
DESCRIPTION:\n \nΟι Βlue Side Band θα εμφανιστούν ζ
 ντανά στο 8 Δυτικά, στις 14 Ιανουαρίου. 
  μπάντα με την νέα της σύνθεση θα παρο
 σιάσει επιλογή από το προσωπικό της υ
 ικό, καθώς και κάποιες επιλεγμένες δι
 σκευές κοντά στο μουσικό της ύφος.\n \nO
  ήχος των Βlue Side Band εμπεριέχει επιρροές
  απο την songwriting αισθητική των Bob Dylan,Tom Wai
 ts,Johnny Cash,Bruce Springsteen,Neil Young, \n \nΤην βραδι
  θα ανοίξει το ακουστικό ντουέτο ΔΥΟ\n\
 nFor more information visit https://blues.gr/events/the-blue-side-band
 -live8
DTSTART;TZID=Europe/Athens:20110114T180000
DTEND;TZID=Europe/Athens:20110115T190000
CATEGORIES:live
LOCATION:Χώρος Τέχνης και Πολιτισμού 8 Δυτ
 κά
WEBSITE:http://www.8dytika.gr
URL:http://www.8dytika.gr
CONTACT:
ORGANIZER;CN="Blue Side Band":https://blues.gr/profile/Blue_label_soci
 ety
ATTACH;FMTTYPE="image/jpeg":http://storage.ning.com/topology/rest/1.0/
 file/get/2252945941?profile=original
ATTENDEE;ROLE=REQ-PARTICIPANT;PARTSTAT=ACCEPTED;RSVP=TRUE;CN="dimitrio
 s doulgeridis":https://blues.gr/profile/dimitriosdoulgeridis
ATTENDEE;ROLE=REQ-PARTICIPANT;PARTSTAT=ACCEPTED;RSVP=TRUE;CN="Blue Sid
 e Band":https://blues.gr/profile/Blue_label_society
END:VEVENT
END:VCALENDAR
