BEGIN:VCALENDAR
PRODID:NingEventWidget-v1
VERSION:2.0
METHOD:PUBLISH
BEGIN:VTIMEZONE
TZID:Europe/Athens
X-LIC-LOCATION:Europe/Athens
BEGIN:DAYLIGHT
TZOFFSETFROM:+0200
TZOFFSETTO:+0300
TZNAME:EEST
DTSTART:19700329T030000
RRULE:FREQ=YEARLY;BYMONTH=3;BYDAY=-1SU
END:DAYLIGHT
BEGIN:STANDARD
TZOFFSETFROM:+0300
TZOFFSETTO:+0200
TZNAME:EET
DTSTART:19701025T040000
RRULE:FREQ=YEARLY;BYMONTH=10;BYDAY=-1SU
END:STANDARD
END:VTIMEZONE
BEGIN:VEVENT
UID:1982923:Event:54670
DTSTAMP:20260423T210436Z
SUMMARY:THE BLUES LEGENDS.
DESCRIPTION:Παρασκευή 30/4.....\nGEORGE AND THE DUKES\nΓιώ
 ργος Χατζόπουλος: κιθάρα-φωνή, Δημήτρη
 ς Μεταξάς: μπάσο, Γιάννης Χριστόπουλος
 : ντραμς.\n\nΕκρηκτικό BLUES τρίο με τον Γι
 ργο Χατζόπουλο στα καλύτερα καυτά κιθ
 αριστικά σόλο. Το ROCK ξεκινάει απ’ τα β
 σικά.\n\nFor more information visit https://blues.gr/events/the-b
 lues-legends
DTSTART;TZID=Europe/Athens:20100430T230000
DTEND;TZID=Europe/Athens:20100501T020000
CATEGORIES:george, and, the, "dukes....and", no, "more."
LOCATION:LAZY CLUB
WEBSITE:http://maps.google.com/maps?f=q&source=s_q&hl=en&geocode=&q=%C
 E%A0%CE%B5%CE%BD%CF%84%CE%AD%CE%BB%CE%B7%CF%82+1,+%CE%92%CF%81%CE%B9%C
 E%BB%CE%AE%CF%83%CF%83%CE%B9%CE%B1,+%CE%95%CE%BB%CE%BB%CE%AC%CE%B4%CE%
 B1&sll=38.034455,23.823313&sspn=0.007758,0.013711&ie=UTF8&hq=&hnear=Pe
 ntelis+1,+Vrilissia+15235,+Athens,+Greece&z=16
URL:http://maps.google.com/maps?f=q&source=s_q&hl=en&geocode=&q=%CE%A0
 %CE%B5%CE%BD%CF%84%CE%AD%CE%BB%CE%B7%CF%82+1,+%CE%92%CF%81%CE%B9%CE%BB
 %CE%AE%CF%83%CF%83%CE%B9%CE%B1,+%CE%95%CE%BB%CE%BB%CE%AC%CE%B4%CE%B1&s
 ll=38.034455,23.823313&sspn=0.007758,0.013711&ie=UTF8&hq=&hnear=Pentel
 is+1,+Vrilissia+15235,+Athens,+Greece&z=16
CONTACT:210 6895535
ORGANIZER;CN="Spiros Dramitinos":https://blues.gr/profile/SpirosDramit
 inos
ATTACH;FMTTYPE="image/jpeg":http://storage.ning.com/topology/rest/1.0/
 file/get/2252941781?profile=original
ATTENDEE;ROLE=REQ-PARTICIPANT;PARTSTAT=ACCEPTED;RSVP=TRUE;CN=Lia:https
 ://blues.gr/profile/Lia
ATTENDEE;ROLE=REQ-PARTICIPANT;PARTSTAT=ACCEPTED;RSVP=TRUE;CN="Petros M
 atsakos":https://blues.gr/profile/PetrosMatsakos
ATTENDEE;ROLE=REQ-PARTICIPANT;PARTSTAT=ACCEPTED;RSVP=TRUE;CN="Spiros D
 ramitinos":https://blues.gr/profile/SpirosDramitinos
END:VEVENT
END:VCALENDAR
