BEGIN:VCALENDAR
PRODID:NingEventWidget-v1
VERSION:2.0
METHOD:PUBLISH
BEGIN:VTIMEZONE
TZID:Europe/Athens
X-LIC-LOCATION:Europe/Athens
BEGIN:DAYLIGHT
TZOFFSETFROM:+0200
TZOFFSETTO:+0300
TZNAME:EEST
DTSTART:19700329T030000
RRULE:FREQ=YEARLY;BYMONTH=3;BYDAY=-1SU
END:DAYLIGHT
BEGIN:STANDARD
TZOFFSETFROM:+0300
TZOFFSETTO:+0200
TZNAME:EET
DTSTART:19701025T040000
RRULE:FREQ=YEARLY;BYMONTH=10;BYDAY=-1SU
END:STANDARD
END:VTIMEZONE
BEGIN:VEVENT
UID:1982923:Event:38443
DTSTAMP:20260423T084034Z
SUMMARY:The Bluesbirds & The Grandfathers Blues Band Live at the KYTTA
 RO
DESCRIPTION:To book a table contact KYTTARO:\n48 IPIROU & AHARNON,\nTe
 l: 210-8224134 & 210-8822460\nEmail: info@kyttarolive.gr\nURL: http://
 www.kyttarolive.gr/\n\nΓια τραπέζι επικοινωνήστ
  με το ΚΥΤΤΑΡΟ:\nΗΠΕΙΡΟΥ 48 & ΑΧΑΡΝΩΝ\nΤη
 : 210-8224134 & 210-8822460\nEmail: info@kyttarolive.gr\nURL: http://
 www.kyttarolive.gr\n\nFor more information visit https://blues.gr/even
 ts/the-bluesbirds-the
DTSTART;TZID=Europe/Athens:20100117T213000
DTEND;TZID=Europe/Athens:20100118T003000
CATEGORIES:blues, -, rock
LOCATION:KYTTARO
WEBSITE:
URL:
CONTACT:210-8224134
ORGANIZER;CN="John Loverdos":https://blues.gr/profile/JohnLoverdos
ATTACH;FMTTYPE="image/jpeg":http://storage.ning.com/topology/rest/1.0/
 file/get/2252938786?profile=original
ATTENDEE;ROLE=REQ-PARTICIPANT;PARTSTAT=ACCEPTED;RSVP=TRUE;CN="Tsiamtsi
 kas Nikolaos":https://blues.gr/profile/TsiamtsikasNikolaos
ATTENDEE;ROLE=REQ-PARTICIPANT;PARTSTAT=ACCEPTED;RSVP=TRUE;CN=nikos:htt
 ps://blues.gr/profile/nikos
ATTENDEE;ROLE=REQ-PARTICIPANT;PARTSTAT=ACCEPTED;RSVP=TRUE;CN="John Lov
 erdos":https://blues.gr/profile/JohnLoverdos
ATTENDEE;ROLE=REQ-PARTICIPANT;PARTSTAT=TENTATIVE;RSVP=TRUE;CN=Lia:http
 s://blues.gr/profile/Lia
END:VEVENT
END:VCALENDAR
