BEGIN:VCALENDAR
PRODID:NingEventWidget-v1
VERSION:2.0
METHOD:PUBLISH
BEGIN:VTIMEZONE
TZID:Europe/Athens
X-LIC-LOCATION:Europe/Athens
BEGIN:DAYLIGHT
TZOFFSETFROM:+0200
TZOFFSETTO:+0300
TZNAME:EEST
DTSTART:19700329T030000
RRULE:FREQ=YEARLY;BYMONTH=3;BYDAY=-1SU
END:DAYLIGHT
BEGIN:STANDARD
TZOFFSETFROM:+0300
TZOFFSETTO:+0200
TZNAME:EET
DTSTART:19701025T040000
RRULE:FREQ=YEARLY;BYMONTH=10;BYDAY=-1SU
END:STANDARD
END:VTIMEZONE
BEGIN:VEVENT
UID:1982923:Event:223999
DTSTAMP:20260421T114518Z
SUMMARY:The Boogie Sinners @ 2o Rock Festival, Πολύτροπης Α
 ρμονιας Χαιδαρίου
DESCRIPTION:2ο ετήσιο Rock Festival μουσικού σχολε
 ίου, ''Πολύτροπη Αρμονία'' Χαιδαρίου.\n\nF
 or more information visit https://blues.gr/events/the-boogie-sinners-2
 o-rock-festival
DTSTART;TZID=Europe/Athens:20150522T000000
DTEND;TZID=Europe/Athens:20150522T235900
CATEGORIES:festival
LOCATION:Πολυτροπη Αρμονία
WEBSITE:
URL:
CONTACT:
ORGANIZER:
ATTACH;FMTTYPE="image/jpeg":http://storage.ning.com/topology/rest/1.0/
 file/get/2253035690?profile=original
ATTENDEE;ROLE=REQ-PARTICIPANT;PARTSTAT=ACCEPTED;RSVP=TRUE;CN="The Boog
 ie Sinners":https://blues.gr/profile/TheBoogieSinners
END:VEVENT
END:VCALENDAR
