BEGIN:VCALENDAR
PRODID:NingEventWidget-v1
VERSION:2.0
METHOD:PUBLISH
BEGIN:VTIMEZONE
TZID:Europe/Athens
X-LIC-LOCATION:Europe/Athens
BEGIN:DAYLIGHT
TZOFFSETFROM:+0200
TZOFFSETTO:+0300
TZNAME:EEST
DTSTART:19700329T030000
RRULE:FREQ=YEARLY;BYMONTH=3;BYDAY=-1SU
END:DAYLIGHT
BEGIN:STANDARD
TZOFFSETFROM:+0300
TZOFFSETTO:+0200
TZNAME:EET
DTSTART:19701025T040000
RRULE:FREQ=YEARLY;BYMONTH=10;BYDAY=-1SU
END:STANDARD
END:VTIMEZONE
BEGIN:VEVENT
UID:1982923:Event:105949
DTSTAMP:20260422T010844Z
SUMMARY:THE BOOGIE SINNERS AT \"BEER FACTORY\" PARTY
DESCRIPTION:Άφθονη βαρελήσια μπύρα, πάνω απ
  400 διαφορετικές ετικέτες μπύρας από 
 λο τον κόσμο και συλλεκτικά ποτήρια π
 εριμένουν τους φίλους που θα έρθουν στ
 ο party του \"Beer Factory\" την Παρασκευή 24/06/11 σ
 το Χαλάνδρι!\nΕλάτε να απολαύσετε τις α
 γαπημένες σας μπύρες υπό τους ήχους το
 υ Blues και του Rock 'n' Roll!\n \nΩρα έναρξης: 21:0
 0\n\nFor more information visit https://blues.gr/events/the-boogie-sin
 ners-at-beer
DTSTART;TZID=Europe/Athens:20110624T000000
DTEND;TZID=Europe/Athens:20110624T235900
CATEGORIES:live, party
LOCATION:BEER FACTORY
WEBSITE:http://www.beerfactory.gr
URL:http://www.beerfactory.gr
CONTACT:210.2753619
ORGANIZER;CN="The Boogie Sinners":https://blues.gr/profile/TheBoogieSi
 nners
ATTACH;FMTTYPE="image/jpeg":http://storage.ning.com/topology/rest/1.0/
 file/get/2252962145?profile=original
ATTENDEE;ROLE=REQ-PARTICIPANT;PARTSTAT=ACCEPTED;RSVP=TRUE;CN="The Boog
 ie Sinners":https://blues.gr/profile/TheBoogieSinners
END:VEVENT
END:VCALENDAR
