BEGIN:VCALENDAR
PRODID:NingEventWidget-v1
VERSION:2.0
METHOD:PUBLISH
BEGIN:VTIMEZONE
TZID:Europe/Athens
X-LIC-LOCATION:Europe/Athens
BEGIN:DAYLIGHT
TZOFFSETFROM:+0200
TZOFFSETTO:+0300
TZNAME:EEST
DTSTART:19700329T030000
RRULE:FREQ=YEARLY;BYMONTH=3;BYDAY=-1SU
END:DAYLIGHT
BEGIN:STANDARD
TZOFFSETFROM:+0300
TZOFFSETTO:+0200
TZNAME:EET
DTSTART:19701025T040000
RRULE:FREQ=YEARLY;BYMONTH=10;BYDAY=-1SU
END:STANDARD
END:VTIMEZONE
BEGIN:VEVENT
UID:1982923:Event:219201
DTSTAMP:20260424T084842Z
SUMMARY:The Boogie Sinners @ Barrel House
DESCRIPTION:Το Barrel House υποδέχεται και φέτος 
 ους Boogie Sinners! Mε μεγάλη αγάπη στη rhythm & bl
 ues μουσική που μας διακρίνει, θα φιλοξε
 νήσουμε για μια ακόμη φορά, το ‘’νέο α
 ίμα’’ της R&B στην Ελλάδα, τη Κυριακή 23 
 Νοεμβρίου στις 22:00.\nΆφθονη μπύρα σε με
 άλη ποικιλία, γερμανική κουζίνα …  κα
 ι rocking blues μουσικές από τους Boogie Sinners, πο
 υ θα σας ‘’γκρουβάρουν’’ με δικές το
 υς συνθέσεις από το προσεχές τους άλμπ
 ουμ αλλά και με ολοκαίνουργια κομμάτι
  που για 1η φορά θα ακούσετε!\n Είσοδος 
 & διασκέδαση…ΕΛΕΥΘΕΡΑ!!!  \n\nFor more informatio
 n visit https://blues.gr/events/the-boogie-sinners-barrel-house
DTSTART;TZID=Europe/Athens:20150222T000000
DTEND;TZID=Europe/Athens:20150222T235900
CATEGORIES:gig
LOCATION:Barrel House
WEBSITE:
URL:
CONTACT:
ORGANIZER;CN="The Boogie Sinners":https://blues.gr/profile/TheBoogieSi
 nners
ATTACH;FMTTYPE="image/jpeg":http://storage.ning.com/topology/rest/1.0/
 file/get/2253029473?profile=original
ATTENDEE;ROLE=REQ-PARTICIPANT;PARTSTAT=ACCEPTED;RSVP=TRUE;CN="The Boog
 ie Sinners":https://blues.gr/profile/TheBoogieSinners
END:VEVENT
END:VCALENDAR
