BEGIN:VCALENDAR
PRODID:NingEventWidget-v1
VERSION:2.0
METHOD:PUBLISH
BEGIN:VTIMEZONE
TZID:Europe/Athens
X-LIC-LOCATION:Europe/Athens
BEGIN:DAYLIGHT
TZOFFSETFROM:+0200
TZOFFSETTO:+0300
TZNAME:EEST
DTSTART:19700329T030000
RRULE:FREQ=YEARLY;BYMONTH=3;BYDAY=-1SU
END:DAYLIGHT
BEGIN:STANDARD
TZOFFSETFROM:+0300
TZOFFSETTO:+0200
TZNAME:EET
DTSTART:19701025T040000
RRULE:FREQ=YEARLY;BYMONTH=10;BYDAY=-1SU
END:STANDARD
END:VTIMEZONE
BEGIN:VEVENT
UID:1982923:Event:90480
DTSTAMP:20260421T213237Z
SUMMARY:THE BOOGIE SINNERS LIVE AT \"CABARET VOLTAIRE\"
DESCRIPTION:Οι Boogie Sinners φλερτάρουν με τους ή
 ους του Blues και του Rock n’ Roll, όπως αυτοί
  των B.B. King, Junior Wells, T- Bone Walker, Shemekia Copeland, Ha
 nk Ballard ,Koko Taylor, αλλά και πιο “ηλεκτρικο
 ς” ήχους, όπως των Buddy Guy και Stevie Ray Vaughan
 . Δίνουν ένα δυνατό Rhythm n’ Blues αποτέλεσ
 α, άλλοτε με πιο κλασσικούς ρυθμούς κα
 ι άλλοτε με πιο Boogie διαθέσεις!!Guitar - Thodor
 is AlexiouVocals - Vassiliki PapaioannouHarmonica - Kostas TenezosBass
  - Dimitris Georgopoulos\nDrums - Giannis \"Coach\" AntonopoulosΠαρ
 ασκευή\nΩρα: 22:30\n \nΕίσοδος 12euro + ποτό\n\nF
 or more information visit https://blues.gr/events/the-boogie-sinners-l
 ive-at-6
DTSTART;TZID=Europe/Athens:20110408T000000
DTEND;TZID=Europe/Athens:20110408T235900
CATEGORIES:gig
LOCATION:CABARET VOLTAIRE
WEBSITE:
URL:
CONTACT:2105227046
ORGANIZER;CN="The Boogie Sinners":https://blues.gr/profile/TheBoogieSi
 nners
ATTACH;FMTTYPE="image/jpeg":http://storage.ning.com/topology/rest/1.0/
 file/get/2112317490?profile=original
ATTENDEE;ROLE=REQ-PARTICIPANT;PARTSTAT=ACCEPTED;RSVP=TRUE;CN="The Boog
 ie Sinners":https://blues.gr/profile/TheBoogieSinners
ATTENDEE;ROLE=REQ-PARTICIPANT;PARTSTAT=TENTATIVE;RSVP=TRUE;CN="Mayel d
 e Borniol":https://blues.gr/profile/MayeldeBorniol
END:VEVENT
END:VCALENDAR
