BEGIN:VCALENDAR
PRODID:NingEventWidget-v1
VERSION:2.0
METHOD:PUBLISH
BEGIN:VTIMEZONE
TZID:Europe/Athens
X-LIC-LOCATION:Europe/Athens
BEGIN:DAYLIGHT
TZOFFSETFROM:+0200
TZOFFSETTO:+0300
TZNAME:EEST
DTSTART:19700329T030000
RRULE:FREQ=YEARLY;BYMONTH=3;BYDAY=-1SU
END:DAYLIGHT
BEGIN:STANDARD
TZOFFSETFROM:+0300
TZOFFSETTO:+0200
TZNAME:EET
DTSTART:19701025T040000
RRULE:FREQ=YEARLY;BYMONTH=10;BYDAY=-1SU
END:STANDARD
END:VTIMEZONE
BEGIN:VEVENT
UID:1982923:Event:105351
DTSTAMP:20260425T160334Z
SUMMARY:THE BOOGIE SINNERS LIVE AT \"BOO\" CAFE BAR *Feat LIA HIDE
DESCRIPTION:Οι Boogie Sinners φλερτάρουν με τους ή
 ους του Blues και του Rock n’ Roll, όπως αυτοί
  των B.B. King, Junior Wells, T- Bone Walker, Shemekia Copeland, Ha
 nk Ballard ,Koko Taylor, αλλά και πιο “ηλεκτρικο
 ς” ήχους, όπως των Buddy Guy και Stevie Ray Vaughan
 . Δίνουν ένα δυνατό Rhythm n’ Blues αποτέλεσ
 α, άλλοτε με πιο κλασσικούς ρυθμούς κα
 ι άλλοτε με πιο Boogie διαθέσεις!!Guitar - Theodo
 re AlexiouHarmonica - Kostas TenezosBass - Dimitris GeorgopoulosDrums 
 - Giannis \"Coach\" AntonopoulosSpecial Guest: LIA HIDEStarts: 22:30\n
  \nSpecia Guest: LIA HIDE\n\nFor more information visit https://blues
 .gr/events/the-boogie-sinners-live-at-boo-1
DTSTART;TZID=Europe/Athens:20110618T000000
DTEND;TZID=Europe/Athens:20110618T235900
CATEGORIES:gig
LOCATION:BOO CAFE BAR
WEBSITE:http://www.facebook.com/pages/BOO-Cafe-Bar/36738398621
URL:http://www.facebook.com/pages/BOO-Cafe-Bar/36738398621
CONTACT:2103255542
ORGANIZER;CN="The Boogie Sinners":https://blues.gr/profile/TheBoogieSi
 nners
ATTACH;FMTTYPE="image/jpeg":http://storage.ning.com/topology/rest/1.0/
 file/get/2252951612?profile=original
ATTENDEE;ROLE=REQ-PARTICIPANT;PARTSTAT=ACCEPTED;RSVP=TRUE;CN="The Boog
 ie Sinners":https://blues.gr/profile/TheBoogieSinners
END:VEVENT
END:VCALENDAR
