BEGIN:VCALENDAR
PRODID:NingEventWidget-v1
VERSION:2.0
METHOD:PUBLISH
BEGIN:VTIMEZONE
TZID:Europe/Athens
X-LIC-LOCATION:Europe/Athens
BEGIN:DAYLIGHT
TZOFFSETFROM:+0200
TZOFFSETTO:+0300
TZNAME:EEST
DTSTART:19700329T030000
RRULE:FREQ=YEARLY;BYMONTH=3;BYDAY=-1SU
END:DAYLIGHT
BEGIN:STANDARD
TZOFFSETFROM:+0300
TZOFFSETTO:+0200
TZNAME:EET
DTSTART:19701025T040000
RRULE:FREQ=YEARLY;BYMONTH=10;BYDAY=-1SU
END:STANDARD
END:VTIMEZONE
BEGIN:VEVENT
UID:1982923:Event:197063
DTSTAMP:20260422T145639Z
SUMMARY:The Boogie Sinners live at ''Double Trouble''
DESCRIPTION:Δυνατές δόσεις blues & rock n roll από τ
 υς Boogie Sinners το Σαββατο βράδυ 29 Μαρτίου 
 στη σκηνή του Double Trouble (The Yard)!!\nΟι Boogie Sinn
 ers, το ''νέο αίμα'' της Ελληνικής rhythm & blues
  σκηνής, θα σας γκρουβάρουν με κομμάτι
  που φέρουν τη δική τους υπογραφή συνθ
 έσεις αλλά και με διασκευές ιστορικών 
 κομματιών της blues και της rock n roll σκηνής
 !!\nΩρα έναρξης: 22:30\nΕίσοδος 7 ευρώ\n(Mεγά
 η σκηνή)\n\nFor more information visit https://blues.gr/events/
 the-boogie-sinners-live-at-double-trouble
DTSTART;TZID=Europe/Athens:20140329T000000
DTEND;TZID=Europe/Athens:20140329T235900
CATEGORIES:gig
LOCATION:Double Trouble
WEBSITE:https://www.facebook.com/2bleTrouble
URL:https://www.facebook.com/2bleTrouble
CONTACT:210 6127005
ORGANIZER;CN="The Boogie Sinners":https://blues.gr/profile/TheBoogieSi
 nners
ATTACH;FMTTYPE="image/jpeg":http://storage.ning.com/topology/rest/1.0/
 file/get/2253019770?profile=original
ATTENDEE;ROLE=REQ-PARTICIPANT;PARTSTAT=ACCEPTED;RSVP=TRUE;CN="The Boog
 ie Sinners":https://blues.gr/profile/TheBoogieSinners
END:VEVENT
END:VCALENDAR
