BEGIN:VCALENDAR
PRODID:NingEventWidget-v1
VERSION:2.0
METHOD:PUBLISH
BEGIN:VTIMEZONE
TZID:Europe/Athens
X-LIC-LOCATION:Europe/Athens
BEGIN:DAYLIGHT
TZOFFSETFROM:+0200
TZOFFSETTO:+0300
TZNAME:EEST
DTSTART:19700329T030000
RRULE:FREQ=YEARLY;BYMONTH=3;BYDAY=-1SU
END:DAYLIGHT
BEGIN:STANDARD
TZOFFSETFROM:+0300
TZOFFSETTO:+0200
TZNAME:EET
DTSTART:19701025T040000
RRULE:FREQ=YEARLY;BYMONTH=10;BYDAY=-1SU
END:STANDARD
END:VTIMEZONE
BEGIN:VEVENT
UID:1982923:Event:130849
DTSTAMP:20260421T165830Z
SUMMARY:The Boogie Sinners live at ''Passepartout''
DESCRIPTION:Oi Boogie Sinners paramoni Xristougenwn to apogevma sto Pa
 ssepartout cafe bar sto Kolonaki!\nElate na kanoume ena zestama kai na
  ypodexthoume ta Xristougenna me rock 'n' roll, boogie kai blues rythm
 ous!\n\nVocals - Lia Hide\nGuitar - Alexiou Thodoris\nHarmonica - Kost
 as Tenezos\nBass - Dimitris Georgopoulos\nDrums - George Rados\n\nEnar
 ksi: 17:00\n\nFor more information visit https://blues.gr/events/the-b
 oogie-sinners-live-at-passepartout
DTSTART;TZID=Europe/Athens:20111224T000000
DTEND;TZID=Europe/Athens:20111224T235900
CATEGORIES:gig
LOCATION:Passepartout cafe bar
WEBSITE:
URL:
CONTACT:2103645546
ORGANIZER;CN="The Boogie Sinners":https://blues.gr/profile/TheBoogieSi
 nners
ATTACH;FMTTYPE="image/jpeg":http://storage.ning.com/topology/rest/1.0/
 file/get/2112330608?profile=original
ATTENDEE;ROLE=REQ-PARTICIPANT;PARTSTAT=ACCEPTED;RSVP=TRUE;CN="The Boog
 ie Sinners":https://blues.gr/profile/TheBoogieSinners
END:VEVENT
END:VCALENDAR
