BEGIN:VCALENDAR
PRODID:NingEventWidget-v1
VERSION:2.0
METHOD:PUBLISH
BEGIN:VTIMEZONE
TZID:Europe/Athens
X-LIC-LOCATION:Europe/Athens
BEGIN:DAYLIGHT
TZOFFSETFROM:+0200
TZOFFSETTO:+0300
TZNAME:EEST
DTSTART:19700329T030000
RRULE:FREQ=YEARLY;BYMONTH=3;BYDAY=-1SU
END:DAYLIGHT
BEGIN:STANDARD
TZOFFSETFROM:+0300
TZOFFSETTO:+0200
TZNAME:EET
DTSTART:19701025T040000
RRULE:FREQ=YEARLY;BYMONTH=10;BYDAY=-1SU
END:STANDARD
END:VTIMEZONE
BEGIN:VEVENT
UID:1982923:Event:133391
DTSTAMP:20260421T151832Z
SUMMARY:THE BOOGIE SINNERS LIVE AT ''STAGE 25''
DESCRIPTION:Οι Boogie Sinners σας προσκαλούν στο π
 ρώτο τους live της νέας χρονιάς στο Stage 25
 , σε μια βραδυά γεμάτη Blues & Rock 'n' roll! Σας 
 περιμένουμε όλους να γκρουβάρουμε σε 
 υθμούς και συνθέσεις που έχουν αφήσει
  εποχή στη Rythm 'n' Blues σκηνή και όχι μόνο!\
 n\nVocals - Lia Hide\nGuitar - Alexiou Thodoris\nHarmonica - Kostas Te
 nezos\nBass - Dimitris Georgopoulos\nDrums - George Rados\n\nFor more 
 information visit https://blues.gr/events/the-boogie-sinners-live-at-s
 tage-25-1
DTSTART;TZID=Europe/Athens:20120120T000000
DTEND;TZID=Europe/Athens:20120120T235900
CATEGORIES:gig
LOCATION:STAGE 25
WEBSITE:
URL:
CONTACT:2105714785
ORGANIZER;CN="The Boogie Sinners":https://blues.gr/profile/TheBoogieSi
 nners
ATTACH;FMTTYPE="image/jpeg":http://storage.ning.com/topology/rest/1.0/
 file/get/2252968784?profile=original
ATTENDEE;ROLE=REQ-PARTICIPANT;PARTSTAT=ACCEPTED;RSVP=TRUE;CN="The Boog
 ie Sinners":https://blues.gr/profile/TheBoogieSinners
ATTENDEE;ROLE=REQ-PARTICIPANT;PARTSTAT=ACCEPTED;RSVP=TRUE;CN="Giannis 
 Pachidis":https://blues.gr/profile/ioannis
END:VEVENT
END:VCALENDAR
