BEGIN:VCALENDAR
PRODID:NingEventWidget-v1
VERSION:2.0
METHOD:PUBLISH
BEGIN:VTIMEZONE
TZID:Europe/Athens
X-LIC-LOCATION:Europe/Athens
BEGIN:DAYLIGHT
TZOFFSETFROM:+0200
TZOFFSETTO:+0300
TZNAME:EEST
DTSTART:19700329T030000
RRULE:FREQ=YEARLY;BYMONTH=3;BYDAY=-1SU
END:DAYLIGHT
BEGIN:STANDARD
TZOFFSETFROM:+0300
TZOFFSETTO:+0200
TZNAME:EET
DTSTART:19701025T040000
RRULE:FREQ=YEARLY;BYMONTH=10;BYDAY=-1SU
END:STANDARD
END:VTIMEZONE
BEGIN:VEVENT
UID:1982923:Event:197188
DTSTAMP:20260424T120150Z
SUMMARY:The Boogie Sinners live at ''Tres Jolie Music Cafe''
DESCRIPTION:Οι καλές στιγμές...επαναλαμβάνο
 ται!!! Για 2η φορά στο Tres Jolie Music Cafe, οι Boog
 ie Sinners, το ''νέο αίμα'' της blues & rock n roll σκη
 νής, θα σας ξεσηκώσουν για μια ακομη φο
 ρά με δικές τους Rhythm & Blues συνθέσεις αλλ
 ά και με διασκευές ιστορικών rock n roll κο
 ματιών!!! Διασκέδαση...χορός..και είσοδ
 ς....όλα ΕΛΕΥΘΕΡΑ!!!\n\nFor more information visit https:
 //blues.gr/events/the-boogie-sinners-live-at-tres-jolie-music-cafe-1
DTSTART;TZID=Europe/Athens:20140305T000000
DTEND;TZID=Europe/Athens:20140305T235900
CATEGORIES:gig
LOCATION:Tres Jolie
WEBSITE:
URL:
CONTACT:210 5712097
ORGANIZER;CN="The Boogie Sinners":https://blues.gr/profile/TheBoogieSi
 nners
ATTACH;FMTTYPE="image/jpeg":http://storage.ning.com/topology/rest/1.0/
 file/get/2253020115?profile=original
ATTENDEE;ROLE=REQ-PARTICIPANT;PARTSTAT=ACCEPTED;RSVP=TRUE;CN="The Boog
 ie Sinners":https://blues.gr/profile/TheBoogieSinners
END:VEVENT
END:VCALENDAR
