BEGIN:VCALENDAR
PRODID:NingEventWidget-v1
VERSION:2.0
METHOD:PUBLISH
BEGIN:VTIMEZONE
TZID:Europe/Athens
X-LIC-LOCATION:Europe/Athens
BEGIN:DAYLIGHT
TZOFFSETFROM:+0200
TZOFFSETTO:+0300
TZNAME:EEST
DTSTART:19700329T030000
RRULE:FREQ=YEARLY;BYMONTH=3;BYDAY=-1SU
END:DAYLIGHT
BEGIN:STANDARD
TZOFFSETFROM:+0300
TZOFFSETTO:+0200
TZNAME:EET
DTSTART:19701025T040000
RRULE:FREQ=YEARLY;BYMONTH=10;BYDAY=-1SU
END:STANDARD
END:VTIMEZONE
BEGIN:VEVENT
UID:1982923:Event:210051
DTSTAMP:20260423T105159Z
SUMMARY:The Boogie Sinners live at ''View DC''
DESCRIPTION:Για Ιη φορά σε έναν από τους πιο 
 όμορφους χώρους στα Μελίσσια, οι Boogie Sin
 ners,θα είναι παρόντες για ένα 2ωρο γεμάτ
 ο με Rhythm & Blues κομματια από το άλμπουμ τ
 υς που αναμενεται να βγει έως τις αρχε
 ς Οκτωβριου αλλά και με ολοκαίνουργια 
 κομματια τους που 1η φορά θα ακούσετε!  
 Χορός, ''ηλεκτρισμένη ατμόσφαιρα'' και 
 ολύ.. rock n roll απο το ''νέο αίμα'' της rhythm & 
 blues στο View DC στα Μελίσσια!\n\nFor more information 
 visit https://blues.gr/events/the-boogie-sinners-live-at-view-dc
DTSTART;TZID=Europe/Athens:20140919T000000
DTEND;TZID=Europe/Athens:20140919T235900
CATEGORIES:gig
LOCATION:View DC
WEBSITE:
URL:
CONTACT:21 0609 6309
ORGANIZER:View DC
ATTACH;FMTTYPE="image/jpeg":http://storage.ning.com/topology/rest/1.0/
 file/get/2253026325?profile=original
ATTENDEE;ROLE=REQ-PARTICIPANT;PARTSTAT=ACCEPTED;RSVP=TRUE;CN="The Boog
 ie Sinners":https://blues.gr/profile/TheBoogieSinners
END:VEVENT
END:VCALENDAR
