BEGIN:VCALENDAR
PRODID:NingEventWidget-v1
VERSION:2.0
METHOD:PUBLISH
BEGIN:VTIMEZONE
TZID:Europe/Athens
X-LIC-LOCATION:Europe/Athens
BEGIN:DAYLIGHT
TZOFFSETFROM:+0200
TZOFFSETTO:+0300
TZNAME:EEST
DTSTART:19700329T030000
RRULE:FREQ=YEARLY;BYMONTH=3;BYDAY=-1SU
END:DAYLIGHT
BEGIN:STANDARD
TZOFFSETFROM:+0300
TZOFFSETTO:+0200
TZNAME:EET
DTSTART:19701025T040000
RRULE:FREQ=YEARLY;BYMONTH=10;BYDAY=-1SU
END:STANDARD
END:VTIMEZONE
BEGIN:VEVENT
UID:1982923:Event:90485
DTSTAMP:20260421T181432Z
SUMMARY:THE BOOGIE SINNERS LIVE STO \"GYALINO MOYSIKO THEATRO\"
DESCRIPTION:Οι Boogie Sinners φλερτάρουν με τους ή
 ους του Blues και του Rock n’ Roll, όπως αυτοί
  των B.B. King, Junior Wells, T- Bone Walker, Shemekia Copeland, Ha
 nk Ballard ,Koko Taylor, αλλά και πιο “ηλεκτρικο
 ς” ήχους, όπως των Buddy Guy και Stevie Ray Vaughan
 . Δίνουν ένα δυνατό Rhythm n’ Blues αποτέλεσ
 α, άλλοτε με πιο κλασσικούς ρυθμούς κα
 ι άλλοτε με πιο Boogie διαθέσεις!!Guitar - Thodor
 is AlexiouVocals - Vassiliki PapaioannouHarmonica - Kostas TenezosBass
  - Dimitris Georgopoulos\nDrums - Giannis \"Coach\" Antonopoulos\n \n
 Είσοδος: 12€ + ποτό\nΗμέρα: Τετάρτη\nΩρα: 
 22:00\n\nFor more information visit https://blues.gr/events/the-boogie
 -sinners-live-sto-1
DTSTART;TZID=Europe/Athens:20110323T000000
DTEND;TZID=Europe/Athens:20110323T235900
CATEGORIES:gig
LOCATION:GYALINO MOYSIKO THEATRO (UPSTAGE)
WEBSITE:
URL:
CONTACT:2109315600
ORGANIZER;CN="The Boogie Sinners":https://blues.gr/profile/TheBoogieSi
 nners
ATTACH;FMTTYPE="image/jpeg":http://storage.ning.com/topology/rest/1.0/
 file/get/2252949365?profile=original
ATTENDEE;ROLE=REQ-PARTICIPANT;PARTSTAT=ACCEPTED;RSVP=TRUE;CN="The Boog
 ie Sinners":https://blues.gr/profile/TheBoogieSinners
END:VEVENT
END:VCALENDAR
