BEGIN:VCALENDAR
PRODID:NingEventWidget-v1
VERSION:2.0
METHOD:PUBLISH
BEGIN:VTIMEZONE
TZID:Europe/Athens
X-LIC-LOCATION:Europe/Athens
BEGIN:DAYLIGHT
TZOFFSETFROM:+0200
TZOFFSETTO:+0300
TZNAME:EEST
DTSTART:19700329T030000
RRULE:FREQ=YEARLY;BYMONTH=3;BYDAY=-1SU
END:DAYLIGHT
BEGIN:STANDARD
TZOFFSETFROM:+0300
TZOFFSETTO:+0200
TZNAME:EET
DTSTART:19701025T040000
RRULE:FREQ=YEARLY;BYMONTH=10;BYDAY=-1SU
END:STANDARD
END:VTIMEZONE
BEGIN:VEVENT
UID:1982923:Event:76008
DTSTAMP:20260421T150527Z
SUMMARY:THE BOOGIE SINNERS LIVE STO \"GHOST HOUSE\"
DESCRIPTION:Guitar - Thodoris Alexiou\nVocals - Vassiliki Papaioannou\
 nHarmonica - Kostas Tenezos\nBass - Giorgos Karakatsanis\nDrums - Gian
 nis \"Coach\" Antonopoulos\n\nΔευτέρα 15 Νοεμβρίου\nΩ
 ρα 10:00\n\nFor more information visit https://blues.gr/events/the-b
 oogie-sinners-live-sto
DTSTART;TZID=Europe/Athens:20101115T000000
DTEND;TZID=Europe/Athens:20101115T235900
CATEGORIES:gig
LOCATION:GHOST HOUSE
WEBSITE:
URL:
CONTACT:
ORGANIZER;CN="The Boogie Sinners":https://blues.gr/profile/TheBoogieSi
 nners
ATTACH;FMTTYPE="image/jpeg":http://storage.ning.com/topology/rest/1.0/
 file/get/2252944128?profile=original
ATTENDEE;ROLE=REQ-PARTICIPANT;PARTSTAT=ACCEPTED;RSVP=TRUE;CN="Theo and
  The Boogie Sinners":https://blues.gr/profile/AlexiouTheodoros
ATTENDEE;ROLE=REQ-PARTICIPANT;PARTSTAT=ACCEPTED;RSVP=TRUE;CN="The Boog
 ie Sinners":https://blues.gr/profile/TheBoogieSinners
END:VEVENT
END:VCALENDAR
