BEGIN:VCALENDAR
PRODID:NingEventWidget-v1
VERSION:2.0
METHOD:PUBLISH
BEGIN:VTIMEZONE
TZID:Europe/Athens
X-LIC-LOCATION:Europe/Athens
BEGIN:DAYLIGHT
TZOFFSETFROM:+0200
TZOFFSETTO:+0300
TZNAME:EEST
DTSTART:19700329T030000
RRULE:FREQ=YEARLY;BYMONTH=3;BYDAY=-1SU
END:DAYLIGHT
BEGIN:STANDARD
TZOFFSETFROM:+0300
TZOFFSETTO:+0200
TZNAME:EET
DTSTART:19701025T040000
RRULE:FREQ=YEARLY;BYMONTH=10;BYDAY=-1SU
END:STANDARD
END:VTIMEZONE
BEGIN:VEVENT
UID:1982923:Event:223325
DTSTAMP:20260421T113910Z
SUMMARY:THE BOOGIE SINNERS @ PAUSA
DESCRIPTION:Για 1η φορά στον ομορφο χώρο του 
 Pausa στο Μαρούσι!\nΩρα έναρξης 23:30 μ.μ.\nΕι
 σοδος ελεύθερη!\n\nFor more information visit https://blu
 es.gr/events/the-boogie-sinners-pausa
DTSTART;TZID=Europe/Athens:20150522T000000
DTEND;TZID=Europe/Athens:20150522T235900
CATEGORIES:gig
LOCATION:PAUSA
WEBSITE:http://www.pausa.gr/
URL:http://www.pausa.gr/
CONTACT:210 6180533-5
ORGANIZER;CN="The Boogie Sinners":https://blues.gr/profile/TheBoogieSi
 nners
ATTACH;FMTTYPE="image/jpeg":http://storage.ning.com/topology/rest/1.0/
 file/get/2253037238?profile=original
ATTENDEE;ROLE=REQ-PARTICIPANT;PARTSTAT=ACCEPTED;RSVP=TRUE;CN="The Boog
 ie Sinners":https://blues.gr/profile/TheBoogieSinners
END:VEVENT
END:VCALENDAR
