BEGIN:VCALENDAR
PRODID:NingEventWidget-v1
VERSION:2.0
METHOD:PUBLISH
BEGIN:VTIMEZONE
TZID:Europe/Athens
X-LIC-LOCATION:Europe/Athens
BEGIN:DAYLIGHT
TZOFFSETFROM:+0200
TZOFFSETTO:+0300
TZNAME:EEST
DTSTART:19700329T030000
RRULE:FREQ=YEARLY;BYMONTH=3;BYDAY=-1SU
END:DAYLIGHT
BEGIN:STANDARD
TZOFFSETFROM:+0300
TZOFFSETTO:+0200
TZNAME:EET
DTSTART:19701025T040000
RRULE:FREQ=YEARLY;BYMONTH=10;BYDAY=-1SU
END:STANDARD
END:VTIMEZONE
BEGIN:VEVENT
UID:1982923:Event:196160
DTSTAMP:20260425T144635Z
SUMMARY:THE BOOGIE SINNERS MARDI GRAS PARTY at the ''AMERICAN BURGER''
DESCRIPTION:Φορέστε τα ότι σας κάνει κέφι...κ
 υριως την καλή σας διάθεση.. όπως κάνετ
 ε πάντα άλλωστε,.,και ελάτε για BOOGIE WOOGIE 
 party μεχρι το πρωι στο AMERICAN BURGER!!! Όσοι ''π
 ιστοι'' μουσικοί...χορευτές..και λάτρει
  του rhythm n blues..προσέλθετε να τα ''χώσουμ
 ε'' ΌΛΟΙ ΜΑΖΙ!!!! Eισοδος & διασκέδαση.... Ε
 ΛΕΥΘΕΡΑ!!!!\n\nFor more information visit https://blues.gr/even
 ts/the-boogie-sinners-saturday-throwdown-at-the-american-burger-5
DTSTART;TZID=Europe/Athens:20140301T000000
DTEND;TZID=Europe/Athens:20140301T235900
CATEGORIES:gig
LOCATION:AMERICAN BURGER
WEBSITE:http://www.americanburger.gr/
URL:http://www.americanburger.gr/
CONTACT:210 96 29 996
ORGANIZER;CN="The Boogie Sinners":https://blues.gr/profile/TheBoogieSi
 nners
ATTACH;FMTTYPE="image/jpeg":http://storage.ning.com/topology/rest/1.0/
 file/get/2253011870?profile=original
ATTENDEE;ROLE=REQ-PARTICIPANT;PARTSTAT=ACCEPTED;RSVP=TRUE;CN="The Boog
 ie Sinners":https://blues.gr/profile/TheBoogieSinners
END:VEVENT
END:VCALENDAR
