BEGIN:VCALENDAR
PRODID:NingEventWidget-v1
VERSION:2.0
METHOD:PUBLISH
BEGIN:VTIMEZONE
TZID:Europe/Athens
X-LIC-LOCATION:Europe/Athens
BEGIN:DAYLIGHT
TZOFFSETFROM:+0200
TZOFFSETTO:+0300
TZNAME:EEST
DTSTART:19700329T030000
RRULE:FREQ=YEARLY;BYMONTH=3;BYDAY=-1SU
END:DAYLIGHT
BEGIN:STANDARD
TZOFFSETFROM:+0300
TZOFFSETTO:+0200
TZNAME:EET
DTSTART:19701025T040000
RRULE:FREQ=YEARLY;BYMONTH=10;BYDAY=-1SU
END:STANDARD
END:VTIMEZONE
BEGIN:VEVENT
UID:1982923:Event:195222
DTSTAMP:20260425T173746Z
SUMMARY:The Boogie Sinners + The 1st Greek Blues Hall Of Fame Inductio
 n Ceremony
DESCRIPTION:Σας προσκαλούμε στη 1η τελετή απ
 ονομής στην Ελλάδα του Blues Hall Of Fame, στο 
 merican Burger, με τους Boogie Sinners να παίρνουν τ
 α ''ηνία'' της βραδυάς με πολύ ηλεκτρικέ
 ς μπλουζιές & rock n roll μεχρι το πρωί!!!  Τη
  απονομή για την ένταξή τους, θα κάνει 
 στους Boogie Sinners και στο Μιχάλη Λημνιό, o 
 λληνας δάσκαλος Αγγλικών, γραφιάς και
  προπάντων.. ''ντελάλης'' του μπλουζ, Δημ
 ήτρης Επικούρης.  Εισοδος Ελευθερη!\n\nFo
 r more information visit https://blues.gr/events/the-boogie-sinners-th
 e-1st-greek-blues-hall-of-fame-induction
DTSTART;TZID=Europe/Athens:20140215T000000
DTEND;TZID=Europe/Athens:20140215T235900
CATEGORIES:gig
LOCATION:AMERICAN BURGER
WEBSITE:http://www.americanburger.gr
URL:http://www.americanburger.gr
CONTACT:2109629996
ORGANIZER;CN="The Boogie Sinners":https://blues.gr/profile/TheBoogieSi
 nners
ATTACH;FMTTYPE="image/jpeg":http://storage.ning.com/topology/rest/1.0/
 file/get/2253018593?profile=original
ATTENDEE;ROLE=REQ-PARTICIPANT;PARTSTAT=ACCEPTED;RSVP=TRUE;CN="Music Ne
 twork by Michael Limnios":https://blues.gr/profile/MichalisLimnios
ATTENDEE;ROLE=REQ-PARTICIPANT;PARTSTAT=ACCEPTED;RSVP=TRUE;CN="The Boog
 ie Sinners":https://blues.gr/profile/TheBoogieSinners
ATTENDEE;ROLE=REQ-PARTICIPANT;PARTSTAT=ACCEPTED;RSVP=TRUE;CN="Dimitris
  Ioannou":https://blues.gr/profile/DimitrisIoannou
END:VEVENT
END:VCALENDAR
