BEGIN:VCALENDAR
PRODID:NingEventWidget-v1
VERSION:2.0
METHOD:PUBLISH
BEGIN:VTIMEZONE
TZID:Europe/Athens
X-LIC-LOCATION:Europe/Athens
BEGIN:DAYLIGHT
TZOFFSETFROM:+0200
TZOFFSETTO:+0300
TZNAME:EEST
DTSTART:19700329T030000
RRULE:FREQ=YEARLY;BYMONTH=3;BYDAY=-1SU
END:DAYLIGHT
BEGIN:STANDARD
TZOFFSETFROM:+0300
TZOFFSETTO:+0200
TZNAME:EET
DTSTART:19701025T040000
RRULE:FREQ=YEARLY;BYMONTH=10;BYDAY=-1SU
END:STANDARD
END:VTIMEZONE
BEGIN:VEVENT
UID:1982923:Event:119781
DTSTAMP:20260422T132301Z
SUMMARY:The Godfathers Greek Tour 2011
DESCRIPTION:Η θρυλική βρετανική rock & roll μπάν
 α Godfathers σχηματίστηκε το 1985 από τους αδ
 ελφούς Peter Coyne (φωνητικά) και Chris Coyne (μπά
 σο).  \nΑπό το 1985, όταν σχηματίστηκαν από
  τις στάχτες των Sid Presley Experience, μέχρι κα
  σήμερα θεωρούνται μία από τις σπουδα
 ότερες rock'n'roll μπάντες που έβγαλε ποτέ 
 η σκηνή της Βρετανίας. Και μόνο η αναφο
 ρά ορισμένων από τα διαχρονικά τραγού
 ια / δυναμίτες που, κατά καιρούς, έχουν
  ηχογραφήσει είναι αρκετή, χωρίς να χρ
 ιάζεται η - συνήθης - επίκληση της κριτ
 ικής αποδοχής τους και της, αρκετά μεγ
 λης, εμπορικής επιτυχίας που γνώρισαν
 .\n \nΓια του λόγου το αληθές... \"Birth, School, W
 ork, Death\", \"She Gives Me Love\", \"Cause I Said So\", \"If I Only 
 Had Time\", \"I Want Everything\", \"This Damn Nation\", \"Walking Tal
 king Johnny Cash Blues\", \"This Is War\", \"Unreal World\", \"I'm Los
 t And Then I'm Found\", \"How Low Is Low\", \"Don't Let Me Down\", \"B
 elieve In Yourself\", \"When I Am Coming Down\", καθώς και ο
  μοναδικές διασκευές τους σε κομμάτια
  όπως το \"Cold Turkey\" του John Lennon, το \"Blitzkrieg B
 op\" των Ramones και το \"How Does It Feel To Feel\" των Cr
 eation, είναι τίτλοι που από μόνοι τους ξυ
 πνούν αμέτρητες αναμνήσεις, στους περ
 σσότερους από εμάς, από την εποχή που 
 ορεύαμε υπό τους ήχους τους, είτε μέσα
  σε οποιοδήποτε bar της εποχής είτε σε κ
 ποια από τις εκπληκτικές συναυλίες πο
 υ έχουν δώσει στο παρελθόν στη χώρα μα
 .\nΌπως, τουλάχιστον οι λίγο παλαιότερ
 ι, είχαμε την ευκαιρία να διαπιστώσου
 ε, πρόκειται για μία εκπληκτική live μπά
 ντα, ίσως μία από τις καλύτερες που έχο
 υμε δει ποτέ. Τα shows τους είναι, απλά, εκ
 ρηκτικά. Δύο ώρες γεμάτες από αγνό rock'n'
 roll, στην καλύτερη μορφή του, όπου το Βρ
 τανικό φλέγμα συναντά το ακατέργαστο 
 garage-punk των Stooges και των Ramones και μαζί δη
 ιουργούν ένα μοναδικό κλίμα ελευθερί
 ς και απόλυτης διασκέδασης. Όταν οι Godf
 athers βρίσκονται στη σκηνή, μέχρι και ο τ
 ελευταίος θεατής αισθάνεται ότι δεν υ
 άρχουν περιορισμοί και επιφυλάξεις.\n
 \nThe Godfathers Greek Tour: 19/11 Θεσσαλονίκη - Γαία 
 Live\n20/11 Καβάλα - Jazz Rock\n\n\nFor more information visit h
 ttps://blues.gr/events/the-godfathers
DTSTART;TZID=Europe/Athens:20111119T000000
DTEND;TZID=Europe/Athens:20111120T235900
CATEGORIES:rock, "n'", roll, alternative, blues
LOCATION:Greece
WEBSITE:http://en.wikipedia.org/wiki/The_Godfathers
URL:http://en.wikipedia.org/wiki/The_Godfathers
CONTACT:
ORGANIZER:
ATTACH;FMTTYPE="image/jpeg":http://storage.ning.com/topology/rest/1.0/
 file/get/2252961489?profile=original
ATTENDEE;ROLE=REQ-PARTICIPANT;PARTSTAT=ACCEPTED;RSVP=TRUE;CN="Music Ne
 twork by Michael Limnios":https://blues.gr/profile/MichalisLimnios
END:VEVENT
END:VCALENDAR
