BEGIN:VCALENDAR
PRODID:NingEventWidget-v1
VERSION:2.0
METHOD:PUBLISH
BEGIN:VTIMEZONE
TZID:Europe/Athens
X-LIC-LOCATION:Europe/Athens
BEGIN:DAYLIGHT
TZOFFSETFROM:+0200
TZOFFSETTO:+0300
TZNAME:EEST
DTSTART:19700329T030000
RRULE:FREQ=YEARLY;BYMONTH=3;BYDAY=-1SU
END:DAYLIGHT
BEGIN:STANDARD
TZOFFSETFROM:+0300
TZOFFSETTO:+0200
TZNAME:EET
DTSTART:19701025T040000
RRULE:FREQ=YEARLY;BYMONTH=10;BYDAY=-1SU
END:STANDARD
END:VTIMEZONE
BEGIN:VEVENT
UID:1982923:Event:56189
DTSTAMP:20260421T123751Z
SUMMARY:THE GRANDFATHERS BLUES BAND LIVE@GHOST BAR
DESCRIPTION:SOLON DEIMEZIS(VOCALS-GUITAR)-\nEVELINA MIAOULI(VOCALS)-\n
 GIAKOUMIS GELIAS(DRUMS)-\nSPYROS SAKELLARIOU(BASS)-\nNIKOS SIAS(GUITAR
 )\n\nFor more information visit https://blues.gr/events/the-grandfathe
 rs-blues-band-12
DTSTART;TZID=Europe/Athens:20100529T233000
DTEND;TZID=Europe/Athens:20100530T150000
CATEGORIES:live
LOCATION:GHOST BAR
WEBSITE:
URL:
CONTACT:
ORGANIZER;CN=nikos:https://blues.gr/profile/nikos
ATTACH;FMTTYPE="image/jpeg":http://storage.ning.com/topology/rest/1.0/
 file/get/2112284128?profile=original
ATTENDEE;ROLE=REQ-PARTICIPANT;PARTSTAT=ACCEPTED;RSVP=TRUE;CN="Tsiamtsi
 kas Nikolaos":https://blues.gr/profile/TsiamtsikasNikolaos
ATTENDEE;ROLE=REQ-PARTICIPANT;PARTSTAT=ACCEPTED;RSVP=TRUE;CN=nikos:htt
 ps://blues.gr/profile/nikos
END:VEVENT
END:VCALENDAR
