BEGIN:VCALENDAR
PRODID:NingEventWidget-v1
VERSION:2.0
METHOD:PUBLISH
BEGIN:VTIMEZONE
TZID:Europe/Athens
X-LIC-LOCATION:Europe/Athens
BEGIN:DAYLIGHT
TZOFFSETFROM:+0200
TZOFFSETTO:+0300
TZNAME:EEST
DTSTART:19700329T030000
RRULE:FREQ=YEARLY;BYMONTH=3;BYDAY=-1SU
END:DAYLIGHT
BEGIN:STANDARD
TZOFFSETFROM:+0300
TZOFFSETTO:+0200
TZNAME:EET
DTSTART:19701025T040000
RRULE:FREQ=YEARLY;BYMONTH=10;BYDAY=-1SU
END:STANDARD
END:VTIMEZONE
BEGIN:VEVENT
UID:1982923:Event:37940
DTSTAMP:20260425T010527Z
SUMMARY:THE GRANDFATHERS BLUES BAND LIVE@AFTERDARK
DESCRIPTION:SOLON DEIMEZIS(VOCALS-GUITAR)\nEVELINA MIAOULI(VOCALS)\nSP
 YROS SAKELLARIOU(BASS)\nIAKOVOS GELIAS(DRUMS)\nNIKOS SIAS(GUITAR)\n\nF
 or more information visit https://blues.gr/events/the-grandfathers-blu
 es-band-8
DTSTART;TZID=Europe/Athens:20100108T230000
DTEND;TZID=Europe/Athens:20100109T150000
CATEGORIES:live
LOCATION:AFTERDARK
WEBSITE:
URL:
CONTACT:
ORGANIZER;CN=nikos:https://blues.gr/profile/nikos
ATTACH;FMTTYPE="image/jpeg":http://storage.ning.com/topology/rest/1.0/
 file/get/2112284128?profile=original
ATTENDEE;ROLE=REQ-PARTICIPANT;PARTSTAT=ACCEPTED;RSVP=TRUE;CN="Paul Xen
 os ( J. Warbird)":https://blues.gr/profile/PaulXenos
ATTENDEE;ROLE=REQ-PARTICIPANT;PARTSTAT=ACCEPTED;RSVP=TRUE;CN="Tsiamtsi
 kas Nikolaos":https://blues.gr/profile/TsiamtsikasNikolaos
ATTENDEE;ROLE=REQ-PARTICIPANT;PARTSTAT=ACCEPTED;RSVP=TRUE;CN="John Lov
 erdos":https://blues.gr/profile/JohnLoverdos
ATTENDEE;ROLE=REQ-PARTICIPANT;PARTSTAT=ACCEPTED;RSVP=TRUE;CN=nikos:htt
 ps://blues.gr/profile/nikos
ATTENDEE;ROLE=REQ-PARTICIPANT;PARTSTAT=TENTATIVE;RSVP=TRUE;CN="Drummat
 ic Style":https://blues.gr/profile/style
END:VEVENT
END:VCALENDAR
