BEGIN:VCALENDAR
PRODID:NingEventWidget-v1
VERSION:2.0
METHOD:PUBLISH
BEGIN:VTIMEZONE
TZID:Europe/Athens
X-LIC-LOCATION:Europe/Athens
BEGIN:DAYLIGHT
TZOFFSETFROM:+0200
TZOFFSETTO:+0300
TZNAME:EEST
DTSTART:19700329T030000
RRULE:FREQ=YEARLY;BYMONTH=3;BYDAY=-1SU
END:DAYLIGHT
BEGIN:STANDARD
TZOFFSETFROM:+0300
TZOFFSETTO:+0200
TZNAME:EET
DTSTART:19701025T040000
RRULE:FREQ=YEARLY;BYMONTH=10;BYDAY=-1SU
END:STANDARD
END:VTIMEZONE
BEGIN:VEVENT
UID:1982923:Event:93537
DTSTAMP:20260419T212527Z
SUMMARY:The Jammers(Blues Duo)
DESCRIPTION:Tsikno-Πεμπτη στο ALLEY BAR ,στην Πρεβε
 α,μετα τις 23:οο, με τσικνισμένα Blues και 
 μυρωδιές απο Mississipi Delta Blues μέχρι ηλεκτρ
 οτσικνισμενα Chicago Blues...C'mon, baby don't ya wanna go
 ...\n\nFor more information visit https://blues.gr/events/the-jammersb
 lues-duo
DTSTART;TZID=Europe/Athens:20110224T230000
DTEND;TZID=Europe/Athens:20110225T030000
CATEGORIES:live, blues, "jammin'"
LOCATION:Preveza
WEBSITE:
URL:
CONTACT:
ORGANIZER;CN="Evan Tsiggos":https://blues.gr/profile/EvanTsiggos
ATTACH;FMTTYPE="image/jpeg":http://storage.ning.com/topology/rest/1.0/
 file/get/2252947826?profile=original
ATTENDEE;ROLE=REQ-PARTICIPANT;PARTSTAT=ACCEPTED;RSVP=TRUE;CN="Evan Tsi
 ggos":https://blues.gr/profile/EvanTsiggos
END:VEVENT
END:VCALENDAR
