BEGIN:VCALENDAR
PRODID:NingEventWidget-v1
VERSION:2.0
METHOD:PUBLISH
BEGIN:VTIMEZONE
TZID:Europe/Athens
X-LIC-LOCATION:Europe/Athens
BEGIN:DAYLIGHT
TZOFFSETFROM:+0200
TZOFFSETTO:+0300
TZNAME:EEST
DTSTART:19700329T030000
RRULE:FREQ=YEARLY;BYMONTH=3;BYDAY=-1SU
END:DAYLIGHT
BEGIN:STANDARD
TZOFFSETFROM:+0300
TZOFFSETTO:+0200
TZNAME:EET
DTSTART:19701025T040000
RRULE:FREQ=YEARLY;BYMONTH=10;BYDAY=-1SU
END:STANDARD
END:VTIMEZONE
BEGIN:VEVENT
UID:1982923:Event:248980
DTSTAMP:20260422T141231Z
SUMMARY:The Jumpin' Bones Live @ To Patari
DESCRIPTION:Η επιστροφή των The Jumpin' Bones για τ
 ην νέα χειμερινή σεζόν είναι -επιτέλου
 ς- γεγονός. Αυτή τη φορά φιλοξενούνται 
 στο θρυλικό Το «Πατάρι» του Λουκιανο
  Κηλαηδόνη στο θέατρο \"Μεταξουργείο\" 
 που λειτουργεί και πάλι απο φέτος. Τόσ
  ο ιδιατερός αυτός χώρος όσο και η ... α
 λαγή του καιρού οδήγησαν την μπάντα σ
 ην προετοιμασία ενός ανάλογου ύφους -b
 lues- προγράμματος, χωρίς βέβαια να λείψ
 υν και τα χορευτικά ξεσπάσματα στα οπ
 ία μας έχουν συνηθίσει!Είσοδος: 5EΟι “T
 he Jumpin’ Bones” είναι μια αθηναϊκή Rhythm ’n B
 lues μπάντα που δημιουργήθηκε την άνοιξ
  του 2014 από τρεις παιδικούς φίλους, το
  Ορέστης Τσικούρη (φωνή - φυσαρμόνικα),
  τον Δημήτρης Δακόπουλο (κιθάρα) και το
 ν Κωνσταντίνο Αλούπη (μπάσο). Μετά από 
 ακροχρόνιες μουσικές αναζητήσεις τόσ
 ο παίζοντας μαζί όσο και ακολουθώντας 
 προσωπικούς δρόμους αλλά και με την πρ
 οσθήκη του Σπύρου Γαβαλά (τύμπανα) κατ
 ληξαν στον ήχο που τώρα πια υπηρετούν.
 Το ξεκίνημα της νέας αυτής προσπάθεια
  δεν θα μπορούσε να είναι πιο ελπιδοφό
 ρο με δυνατές εμφανίσεις σε γνωστές σκ
 ηνές της Αθήνας (Six Dogs, Half Note Jazz Club) καθώ
  και σε φεστιβαλ (Ziria Music Festival, Ramones Tribute 
 Festival στο Κύτταρο, Blues to the Bone Festival: A Live Tri
 bute to B.B. King).Παράλληλα όμως με τις πρώτε
  ζωντανές εμφανίσεις δούλευαν στοστο
 ντιο πάνω σε δικές τους συνθέσεις. Έτσ
 ι μέσα σε λίγους μήνες, και συγκεκριμέ
 α τον Νοέμβριο του 2015, κυκλοφόρησε η π
 ώτη τους δισκογραφική δουλειά με τον 
 ίτλο “Marrow” που γρήγορα απέσπασε πολύ
  θετικές κριτικές από Ελλάδα και εξωτε
 ρικό (Blues Blast Magazine (USA), Blues Matters (UK), Bluesnews (D
 E) κ.α.).Στα τραγούδια τους ο έντονα προσ
 ωπικός τους ήχος αναδεικνύεται από τη
  ανάμειξη της πρώιμης Rhythm ’n' Blues με επ
 ρροές από 60s garage rock και rockabilly. Το αποτέ
 εσμα είναι ιδιαίτερο, μοντέρνο, και άκ
 ρως χορευτικό.\n\nFor more information visit https://blues
 .gr/events/the-jumpin-bones-live-to-patari
DTSTART;TZID=Europe/Athens:20161118T223000
DTEND;TZID=Europe/Athens:20161119T010000
CATEGORIES:live
LOCATION:Το \"Πατάρι\" στο θέατρο Μεταξουργ
 ίο
WEBSITE:https://www.facebook.com/Το-Πατάρι-1341284305883011/?f
 ref=ts
URL:https://www.facebook.com/Το-Πατάρι-1341284305883011/?fref=
 ts
CONTACT:2105234382
ORGANIZER;CN="Orestis Tsikouris":https://blues.gr/profile/OrestisTsiko
 uris
ATTACH;FMTTYPE="image/jpeg":http://storage.ning.com/topology/rest/1.0/
 file/get/2253053905?profile=original
ATTENDEE;ROLE=REQ-PARTICIPANT;PARTSTAT=ACCEPTED;RSVP=TRUE;CN="Orestis 
 Tsikouris":https://blues.gr/profile/OrestisTsikouris
END:VEVENT
END:VCALENDAR
