BEGIN:VCALENDAR
PRODID:NingEventWidget-v1
VERSION:2.0
METHOD:PUBLISH
BEGIN:VTIMEZONE
TZID:Europe/Athens
X-LIC-LOCATION:Europe/Athens
BEGIN:DAYLIGHT
TZOFFSETFROM:+0200
TZOFFSETTO:+0300
TZNAME:EEST
DTSTART:19700329T030000
RRULE:FREQ=YEARLY;BYMONTH=3;BYDAY=-1SU
END:DAYLIGHT
BEGIN:STANDARD
TZOFFSETFROM:+0300
TZOFFSETTO:+0200
TZNAME:EET
DTSTART:19701025T040000
RRULE:FREQ=YEARLY;BYMONTH=10;BYDAY=-1SU
END:STANDARD
END:VTIMEZONE
BEGIN:VEVENT
UID:1982923:Event:191406
DTSTAMP:20260425T233659Z
SUMMARY:The Magic Mondays - Live @ Beer Academy Home
DESCRIPTION:Οι The Magic Mondays είναι μια παρέα μο
 υσικών που αγαπούν τη Blues σε όλο της το 
 φάσμα, από τον κλασσικό ήχο του Chicago μέ
 ρι και τα Jump Blues του West Coast. Από το πρώτ
  τους Jam κατάλαβαν τη μοναδική χημεία 
 εταξύ τους και συνεχίζουν ακάθεκτοι!Τ
 η Παρασκευή 20 Δεκεμβρίου, θα τους βρεί
 ε σε μια από τις καλύτερες μπυραρίες τ
 ης πόλης, στο Beer Academy Home. Άφθονη μπύρα κ
 αι ιδανικό περιβάλλον για μια blues βραδ
 ά!Ορέστης Τσικούρης: Φυσαρμόνικα, τρα
 ούδιΘοδωρής Αλεξίου: Κιθάρα, τραγούδι
 Σπύρος Γαβαλάς: ΤύμπαναΚωνσταντίνος Ν
 ιχωρίτης: Μπάσο\n\nFor more information visit https://blu
 es.gr/events/the-magic-mondays-live-beer-academy-home
DTSTART;TZID=Europe/Athens:20131220T223000
DTEND;TZID=Europe/Athens:20131221T010000
CATEGORIES:chicago, blues, west, coast, "rockin'", the
LOCATION:Beer Academy Home
WEBSITE:https://www.facebook.com/Beer.Academy.Home
URL:https://www.facebook.com/Beer.Academy.Home
CONTACT:
ORGANIZER;CN="Orestis Tsikouris":https://blues.gr/profile/OrestisTsiko
 uris
ATTACH;FMTTYPE="image/jpeg":http://storage.ning.com/topology/rest/1.0/
 file/get/2253014839?profile=original
ATTENDEE;ROLE=REQ-PARTICIPANT;PARTSTAT=ACCEPTED;RSVP=TRUE;CN="Bassiste
 d Roya":https://blues.gr/profile/BassistedRoya
ATTENDEE;ROLE=REQ-PARTICIPANT;PARTSTAT=ACCEPTED;RSVP=TRUE;CN="Orestis 
 Tsikouris":https://blues.gr/profile/OrestisTsikouris
END:VEVENT
END:VCALENDAR
