BEGIN:VCALENDAR
PRODID:NingEventWidget-v1
VERSION:2.0
METHOD:PUBLISH
BEGIN:VTIMEZONE
TZID:Europe/Athens
X-LIC-LOCATION:Europe/Athens
BEGIN:DAYLIGHT
TZOFFSETFROM:+0200
TZOFFSETTO:+0300
TZNAME:EEST
DTSTART:19700329T030000
RRULE:FREQ=YEARLY;BYMONTH=3;BYDAY=-1SU
END:DAYLIGHT
BEGIN:STANDARD
TZOFFSETFROM:+0300
TZOFFSETTO:+0200
TZNAME:EET
DTSTART:19701025T040000
RRULE:FREQ=YEARLY;BYMONTH=10;BYDAY=-1SU
END:STANDARD
END:VTIMEZONE
BEGIN:VEVENT
UID:1982923:Event:93867
DTSTAMP:20260421T201751Z
SUMMARY:The MoonStone Combo Live
DESCRIPTION:The MoonStone Combo is coming back, after a rehearsing mon
 th, to the same old place...\"The Ghost House Downstairs\" to spell ou
 t the blues.The MoonStone Combo are:\n              John 
 Stone Sevastakis organ,vocals\n              George \"Whi
 skey\" Stefanakis guitar,vocals\n              Sissy Meli
  vocals,acoustic guitar\n              Tasos Papa Papapan
 os el.bass\n              Style Drummatic Gabrielides dru
 mset\n                     BE ALL OF YOU THERE!!!!
 !\n\nFor more information visit https://blues.gr/events/the-moonstone-
 combo-live-1
DTSTART;TZID=Europe/Athens:20110318T230000
DTEND;TZID=Europe/Athens:20110319T020000
CATEGORIES:live, gig
LOCATION:THE GHOST HOUSE
WEBSITE:
URL:
CONTACT:
ORGANIZER:Got the blues sensessions
ATTACH;FMTTYPE="image/jpeg":http://storage.ning.com/topology/rest/1.0/
 file/get/2166130557?profile=original
ATTENDEE;ROLE=REQ-PARTICIPANT;PARTSTAT=ACCEPTED;RSVP=TRUE;CN="George \
 "Whiskey\" Stefanakis":https://blues.gr/profile/GeorgeStefanakis
ATTENDEE;ROLE=REQ-PARTICIPANT;PARTSTAT=ACCEPTED;RSVP=TRUE;CN="Drummati
 c Style":https://blues.gr/profile/style
ATTENDEE;ROLE=REQ-PARTICIPANT;PARTSTAT=TENTATIVE;RSVP=TRUE;CN="Dimitri
 s Ioannou":https://blues.gr/profile/DimitrisIoannou
END:VEVENT
END:VCALENDAR
