BEGIN:VCALENDAR
PRODID:NingEventWidget-v1
VERSION:2.0
METHOD:PUBLISH
BEGIN:VTIMEZONE
TZID:Europe/Athens
X-LIC-LOCATION:Europe/Athens
BEGIN:DAYLIGHT
TZOFFSETFROM:+0200
TZOFFSETTO:+0300
TZNAME:EEST
DTSTART:19700329T030000
RRULE:FREQ=YEARLY;BYMONTH=3;BYDAY=-1SU
END:DAYLIGHT
BEGIN:STANDARD
TZOFFSETFROM:+0300
TZOFFSETTO:+0200
TZNAME:EET
DTSTART:19701025T040000
RRULE:FREQ=YEARLY;BYMONTH=10;BYDAY=-1SU
END:STANDARD
END:VTIMEZONE
BEGIN:VEVENT
UID:1982923:Event:105975
DTSTAMP:20260421T230932Z
SUMMARY:The Outsiders live 20 years after
DESCRIPTION:Οι Outsiders είναι μια rock μπάντα απο 
 την Αθήνα, σχηματίστηκαν το 1989, παίζον
 ας Rockabilly, Rock & Roll & Country μουσική, η πρώτη 
 τους εμφάνιση έγινε την ίδια χρονιά στ
 ο ΑΝ Club, η πρώτη σύνθεση περιελάμβανε τ
 ους Τάσο Καρατζη (φωνή, κιθάρα), Γιαννη 
 Δρέττα (κιθάρα, φωνητικά), Βάκη Γάτο (μπ
 άσο) και Νίκο Μπαλούρδο (τύμπανα). Με αυ
 τή την σύνθεση εμφανίζονται στα περισ
 ότερα live clubs της εποχής και με την προσ
 ήλωση τους στην μουσική και εμφανισια
 ή λεπτομέρεια στα 50's, αποκτούν ένα φαν
 ατικό κοινό.Ένα χρόνο αργότερα εμφανί
 ονται στο ιστορικό φεστιβάλ ΤΑΚΗ 13 στ
  Μύκονο μαζί με μερικούς απο τους πιό 
 ημαντικούς Έλληνες rock καλιτέχνες και 
 μπάντες της χώρας, απο αυτή την εμφάνι
 η τους ξεχωρίζει το διεθνές ΜTV και τού
 ς παρουσιάζει, κανοντάς τους τo πρώτo Ε
 ληνικό Rock n' Roll γκρούπ που εμφανίζεται 
 σ' αυτό.Το 1991 συμετέχουν με ένα δικο το
 ς κομμάτι (Black Cadillac) στη συλλογή Studio II κ
 αί αυτή έμελλε να είναι και η μοναδική 
 τους επίσημη κυκλοφορία στην δισκογρα
 φία. Με κάποιες αλλαγές στη σύνθεση το
 ς κάνουν ένα από τα καλύτερα live τους σ
 ο Ρόδον Club, λίγους μήνες αργότερα κάνο
 υν ένα μικρό διάλλειμα με τον Τάσο Καρ
 τζή μαζί με τον Γιάννη Τσακώνη –πρώην
  ντράμερ των Blue Jeans- να δημιουργεί τους 
 Mavericks (rockabilly-country) και τον Γιάννη Δρέττα
  μαζί με τον Λεωνίδα Γεωργούλη -κοντρα
 πασίστας των Outsiders- τους Jelly Road (blues).\nΑυ
 τό το «μικρό» διάλλειμα, κράτησε 20 χρό
 ια, με τους Καρατζη - Δρέττα να εμφανίζ
 ονται κατα καιρούς σαν ακουστικό ντου
 το με δύο κιθάρες, διασκευάζοντας αγα
 ημένα τους τραγούδια, στο ακουστικό ν
 ουέτο προστίθεται αργότερα ο Τάσος Αυ
 λακιώτης και αρχίζουν να έρχονται οι π
 ρώτες σκέψεις για επανεμφάνιση των Outsi
 ders. Στα τύμπανα προστίθεται ο Γιαννης 
 σακώνης, στην ακουστικη κίθαρα ο Φώτη
  Γιασεμής και στο μπάσο ο Νίκος Κετζέα
 ς (Rocking Bones, Misty Blueboys), που λίγο αργότερα 
 ντικαθίσταται από τον Ίωνα Νικολάου (T
 he Crooks). Με αυτή τη σύνθεση και με μουσικ
 ές κατευθύνσεις πού κινούνται πλέον α
 ο τo Rockabilly έως το Folk και την Americana και α
 ο τα Blues και το Southern Rock μέχρι το νέο Rock 
 ου σήμερα, μπαίνουν στο στούντιο για 3 
 χρόνια εξαντλητικών προβών.Το πρώτο τ
 υς Live μετά απο 20 χρόνια, γίνεται στις 25
  Ιουνίου, εκεί απ' όπου ξεκίνησαν όλα, σ
 το AN Club\n\nFor more information visit https://blues.gr/events/the
 -outsiders-live-20-years
DTSTART;TZID=Europe/Athens:20110625T220000
DTEND;TZID=Europe/Athens:20110626T010000
CATEGORIES:live
LOCATION:AN Club
WEBSITE:http://www.facebook.com/pages/The-Outsiders-Athens-Greece/1469
 75635359995?sk=wall#!/pages/The-Outsiders-Athens-Greece/14697563535999
 5?sk=info
URL:http://www.facebook.com/pages/The-Outsiders-Athens-Greece/14697563
 5359995?sk=wall#!/pages/The-Outsiders-Athens-Greece/146975635359995?sk
 =info
CONTACT:2103305056
ORGANIZER:An Club
ATTACH;FMTTYPE="image/jpeg":http://storage.ning.com/topology/rest/1.0/
 file/get/2252953625?profile=original
ATTENDEE;ROLE=REQ-PARTICIPANT;PARTSTAT=ACCEPTED;RSVP=TRUE;CN="Music Ne
 twork by Michael Limnios":https://blues.gr/profile/MichalisLimnios
END:VEVENT
END:VCALENDAR
