BEGIN:VCALENDAR
PRODID:NingEventWidget-v1
VERSION:2.0
METHOD:PUBLISH
BEGIN:VTIMEZONE
TZID:Europe/Athens
X-LIC-LOCATION:Europe/Athens
BEGIN:DAYLIGHT
TZOFFSETFROM:+0200
TZOFFSETTO:+0300
TZNAME:EEST
DTSTART:19700329T030000
RRULE:FREQ=YEARLY;BYMONTH=3;BYDAY=-1SU
END:DAYLIGHT
BEGIN:STANDARD
TZOFFSETFROM:+0300
TZOFFSETTO:+0200
TZNAME:EET
DTSTART:19701025T040000
RRULE:FREQ=YEARLY;BYMONTH=10;BYDAY=-1SU
END:STANDARD
END:VTIMEZONE
BEGIN:VEVENT
UID:1982923:Event:114298
DTSTAMP:20260420T041830Z
SUMMARY:The Outsiders Live
DESCRIPTION:Οι Outsiders είναι μια rock μπάντα απο 
 την Αθήνα, σχηματίστηκαν το 1988, παίζον
 ας Rockabilly, Rock n' Roll, Blues & Country μουσική, από
  τους: Τάσο Καρατζή (φωνή, κιθάρα) και Γ
 άννη Δρέττα (κιθάρα, φωνητικά).Οι μουσ
 κές τους κινούνται πλέον απο τo Rockabilly 
 ως το Folk και την Americana, και απο τα Blues κα
 ι το Southern Rock μέχρι το νέο Rock του σήμερα.
  Θα παίξουν δικά τους τραγούδια, αλλά κ
 αι αρκετές διασκευές με την εξαμελή πλ
 έον συνθεσή τους: Τάσος Καρατζης, Γιαν
 ης Δρέττας, Τάσος Αυλακιώτης, 'Ιωνας Ν
 κολάου, Φώτης Γιασεμής, Γιάννης Τσακώ
 ης.\n\n\nFor more information visit https://blues.gr/events/the-out
 siders-live
DTSTART;TZID=Europe/Athens:20111021T230000
DTEND;TZID=Europe/Athens:20111022T020000
CATEGORIES:live
LOCATION:AFTER DARK
WEBSITE:http://el-gr.facebook.com/pages/The-Outsiders-Athens-Greece/14
 6975635359995?sk=wall#!/pages/The-Outsiders-Athens-Greece/146975635359
 995?sk=info
URL:http://el-gr.facebook.com/pages/The-Outsiders-Athens-Greece/146975
 635359995?sk=wall#!/pages/The-Outsiders-Athens-Greece/146975635359995?
 sk=info
CONTACT:210-3606460
ORGANIZER:After Dark
ATTACH;FMTTYPE="image/jpeg":http://storage.ning.com/topology/rest/1.0/
 file/get/2252956402?profile=original
ATTENDEE;ROLE=REQ-PARTICIPANT;PARTSTAT=ACCEPTED;RSVP=TRUE;CN="Music Ne
 twork by Michael Limnios":https://blues.gr/profile/MichalisLimnios
END:VEVENT
END:VCALENDAR
