BEGIN:VCALENDAR
PRODID:NingEventWidget-v1
VERSION:2.0
METHOD:PUBLISH
BEGIN:VTIMEZONE
TZID:Europe/Athens
X-LIC-LOCATION:Europe/Athens
BEGIN:DAYLIGHT
TZOFFSETFROM:+0200
TZOFFSETTO:+0300
TZNAME:EEST
DTSTART:19700329T030000
RRULE:FREQ=YEARLY;BYMONTH=3;BYDAY=-1SU
END:DAYLIGHT
BEGIN:STANDARD
TZOFFSETFROM:+0300
TZOFFSETTO:+0200
TZNAME:EET
DTSTART:19701025T040000
RRULE:FREQ=YEARLY;BYMONTH=10;BYDAY=-1SU
END:STANDARD
END:VTIMEZONE
BEGIN:VEVENT
UID:1982923:Event:90157
DTSTAMP:20260419T194950Z
SUMMARY:THE POSTER LIVE, blues-swing-rock&roll band, live at Babi's Ja
 zz Cafe
DESCRIPTION:Friday's night special at Babi's Jazz cafe BLUES / SWING /
  ROCK & ROLL live\n\nFor more information visit https://blues.gr/event
 s/the-poster-live
DTSTART;TZID=Europe/Athens:20110128T000000
DTEND;TZID=Europe/Athens:20110128T235900
CATEGORIES:the, poster, live, "blues-swing-rock&roll", band, at, "babi
 's", jazz, cafe
LOCATION:Aridea, Babi's Jazz Cafe
WEBSITE:
URL:
CONTACT:
ORGANIZER;CN="babis Simply  Blue":https://blues.gr/profile/MPAMPES
ATTACH;FMTTYPE="image/jpeg":
ATTENDEE;ROLE=REQ-PARTICIPANT;PARTSTAT=ACCEPTED;RSVP=TRUE;CN="babis Si
 mply  Blue":https://blues.gr/profile/MPAMPES
END:VEVENT
END:VCALENDAR
