BEGIN:VCALENDAR
PRODID:NingEventWidget-v1
VERSION:2.0
METHOD:PUBLISH
BEGIN:VTIMEZONE
TZID:Europe/Athens
X-LIC-LOCATION:Europe/Athens
BEGIN:DAYLIGHT
TZOFFSETFROM:+0200
TZOFFSETTO:+0300
TZNAME:EEST
DTSTART:19700329T030000
RRULE:FREQ=YEARLY;BYMONTH=3;BYDAY=-1SU
END:DAYLIGHT
BEGIN:STANDARD
TZOFFSETFROM:+0300
TZOFFSETTO:+0200
TZNAME:EET
DTSTART:19701025T040000
RRULE:FREQ=YEARLY;BYMONTH=10;BYDAY=-1SU
END:STANDARD
END:VTIMEZONE
BEGIN:VEVENT
UID:1982923:Event:18654
DTSTAMP:20260423T105152Z
SUMMARY:THE SHARPEES' - LIVE
DESCRIPTION:Ένα κορυφαίο Blues / Rock τρίο που πα
 ζει επαγγελματικά και χωρίς συμβιβασ
 ούς μια μεγάλη γκάμα από τα πιο δυνατά
  κομμάτια του είδους του περασμένου αι
 ώνα.\n\nΚομμάτια βαθιά ριζωμένα μέσα μα
  στο πέρασμα του χρόνου από μουσικούς 
 και σχήματα σαν τους Jimi Hendrix, Rory Gallagher, Sm
 all Faces, η Rolling Stones, πάντα δίπλα στο δικό τ
 ους υλικό.\nΑκόμη και τραγούδια του Cliff 
 Richard η του Buddy Holly χωράνε στο ρεπερτόριο
  των Sharpee’s , παιγμένα όμως με απόλυτο δ
 υναμισμό και καταιγιστικά σόλος από τ
 ν κιθάρα του Geoff Everett.\n\nΟ Geoff (κιθάρα κα
  φωνή), μια παλιά persona της σκηνής, με πο
 λές και ενδιαφέρουσες συνεργασίες, φα
 ίνεται ότι «ακούμπησε» πολλές φορές τ
 ν κορυφή, διαλέγοντας όμως μια πιο “und
 erground” πορεία, έξω από τα εμπορικά κυκλ
 ώματα.\nΝα πούμε, ότι έχει συνεργασθεί 
 ε τους: Alan Lancaster (Status Quo),\nGerry McAvoy και Brenda
 n O'Neil (παράλληλα με τον Rory Gallagher),\nDave Knopfl
 er (Dire Straits), Lord Sutch, Bob Henrit (Kinks / Argent)\nJim Russel
 l (Stretch), Jim Leverton (Steve Marriott / Savoy Brown) Kim Beacon ( 
 String Driven Thing etc ) Wreckless Eric, Ian Paice ( Deep Purple), Go
 rdon Huntley ( Matthew's Southern Comfort ) Bobby Miller (Supertramp)\
 n\nΣτο μπάσο και στα φωνητικά είναι Billy M
 ead (ιδρυτικό μέλος) που με τον\nSam Kelly (drums
  και φωνητικά) – για μεγάλο διάστημα ν
 ράμμερ του Gary Moore) αποτελούν τη σπονδυ
 ική στήλη της μπάντας.\n\nΟι Sharpee’s είνα
 ι μια από τις πιο σκληρά εργαζόμενες μ
 άντες της νότιας Αγγλίας, με ενθουσιώ
 εις φίλους στην Ευρώπη και δυνατά κότ
 ια.\n\nFor more information visit https://blues.gr/events/the-sharp
 ees-live
DTSTART;TZID=Europe/Athens:20090306T230000
DTEND;TZID=Europe/Athens:20090307T010000
CATEGORIES:maximum, "rhythm'", "n'", blues
LOCATION:MYLOS 1927 / LARISSA (4 MARCH) & LAZY / ATHENS (6 MARCH)
WEBSITE:
URL:
CONTACT:
ORGANIZER;CN="JOHN ANGELATOS-Red Rooster Prod.":https://blues.gr/profi
 le/JohnAngelatos
ATTACH;FMTTYPE="image/jpeg":http://storage.ning.com/topology/rest/1.0/
 file/get/2252937464?profile=original
ATTENDEE;ROLE=REQ-PARTICIPANT;PARTSTAT=ACCEPTED;RSVP=TRUE;CN="JOHN ANG
 ELATOS-Red Rooster Prod.":https://blues.gr/profile/JohnAngelatos
END:VEVENT
END:VCALENDAR
