BEGIN:VCALENDAR
PRODID:NingEventWidget-v1
VERSION:2.0
METHOD:PUBLISH
BEGIN:VTIMEZONE
TZID:Europe/Athens
X-LIC-LOCATION:Europe/Athens
BEGIN:DAYLIGHT
TZOFFSETFROM:+0200
TZOFFSETTO:+0300
TZNAME:EEST
DTSTART:19700329T030000
RRULE:FREQ=YEARLY;BYMONTH=3;BYDAY=-1SU
END:DAYLIGHT
BEGIN:STANDARD
TZOFFSETFROM:+0300
TZOFFSETTO:+0200
TZNAME:EET
DTSTART:19701025T040000
RRULE:FREQ=YEARLY;BYMONTH=10;BYDAY=-1SU
END:STANDARD
END:VTIMEZONE
BEGIN:VEVENT
UID:1982923:Event:153433
DTSTAMP:20260425T023625Z
SUMMARY:THE SOULWALKERS -GREECE ROCK -BLUES BAND
DESCRIPTION:οι SOULWALKERS LIVE IN ROCKWOOD\nGREECE BLUES -ROCK BAND
 \n\nEVGENIA -VOCALS\nMARIOS SKOUFOS- BASS\nCOSTAS KALOGIROU- DRUMS\nVA
 NGELIS MAGLARAS -GUITAR\n\nFor more information visit https://blues.gr
 /events/the-soulwalkers-greece-rock-blues-band
DTSTART;TZID=Europe/Athens:20120911T180000
DTEND;TZID=Europe/Athens:20120911T190000
CATEGORIES:"http://www.facebook.com/www.straightahead.gr?ref=hl"
LOCATION:ROCKWOOD BAΣ.ΗΡΑΚΛΕΙΟΥ 2 ΚΑΙ ΠΑΤΗΣΙΩΝ 46
  -ΜΟΥΣΕΙΟ -ΑΘΗΝΑ
WEBSITE:http://www.facebook.com/www.straightahead.gr?ref=hl
URL:http://www.facebook.com/www.straightahead.gr?ref=hl
CONTACT:
ORGANIZER;CN="I M A BLUESMAN":https://blues.gr/profile/IMABLUESMAN
ATTACH;FMTTYPE="image/jpeg":http://storage.ning.com/topology/rest/1.0/
 file/get/2252991260?profile=original
ATTENDEE;ROLE=REQ-PARTICIPANT;PARTSTAT=ACCEPTED;RSVP=TRUE;CN="I M A BL
 UESMAN":https://blues.gr/profile/IMABLUESMAN
END:VEVENT
END:VCALENDAR
